BEGIN:VCALENDAR
VERSION:2.0
PRODID:-//St. Mary Armenian Apostolic Church - ECPv6.15.17//NONSGML v1.0//EN
CALSCALE:GREGORIAN
METHOD:PUBLISH
X-ORIGINAL-URL:https://www.stmarytoronto.ca
X-WR-CALDESC:Events for St. Mary Armenian Apostolic Church
REFRESH-INTERVAL;VALUE=DURATION:PT1H
X-Robots-Tag:noindex
X-PUBLISHED-TTL:PT1H
BEGIN:VTIMEZONE
TZID:America/Toronto
BEGIN:DAYLIGHT
TZOFFSETFROM:-0500
TZOFFSETTO:-0400
TZNAME:EDT
DTSTART:20210314T070000
END:DAYLIGHT
BEGIN:STANDARD
TZOFFSETFROM:-0400
TZOFFSETTO:-0500
TZNAME:EST
DTSTART:20211107T060000
END:STANDARD
BEGIN:DAYLIGHT
TZOFFSETFROM:-0500
TZOFFSETTO:-0400
TZNAME:EDT
DTSTART:20220313T070000
END:DAYLIGHT
BEGIN:STANDARD
TZOFFSETFROM:-0400
TZOFFSETTO:-0500
TZNAME:EST
DTSTART:20221106T060000
END:STANDARD
BEGIN:DAYLIGHT
TZOFFSETFROM:-0500
TZOFFSETTO:-0400
TZNAME:EDT
DTSTART:20230312T070000
END:DAYLIGHT
BEGIN:STANDARD
TZOFFSETFROM:-0400
TZOFFSETTO:-0500
TZNAME:EST
DTSTART:20231105T060000
END:STANDARD
BEGIN:DAYLIGHT
TZOFFSETFROM:-0500
TZOFFSETTO:-0400
TZNAME:EDT
DTSTART:20240310T070000
END:DAYLIGHT
BEGIN:STANDARD
TZOFFSETFROM:-0400
TZOFFSETTO:-0500
TZNAME:EST
DTSTART:20241103T060000
END:STANDARD
END:VTIMEZONE
BEGIN:VEVENT
DTSTART;TZID=America/Toronto:20230303T193000
DTEND;TZID=America/Toronto:20230303T203000
DTSTAMP:20260420T143619
CREATED:20230303T235129Z
LAST-MODIFIED:20230320T024220Z
UID:6142-1677871800-1677875400@www.stmarytoronto.ca
SUMMARY:ՀՍԿՈՒՄԻ ԺԱՄԵՐԳՈՒԹԻՒՆ
DESCRIPTION:
URL:https://www.stmarytoronto.ca/event/%d5%b0%d5%bd%d5%af%d5%b8%d6%82%d5%b4%d5%ab-%d5%aa%d5%a1%d5%b4%d5%a5%d6%80%d5%a3%d5%b8%d6%82%d5%a9%d5%ab%d6%82%d5%b6/
LOCATION:St. Mary Armenian Apostolic Church\, 45 Hallcrown Pl.\, Toronto\, Ontario\, M2J 4Y4\, Canada
ATTACH;FMTTYPE=image/jpeg:https://www.stmarytoronto.ca/wp-content/uploads/2023/02/WhatsApp-Image-2023-02-16-at-22.44.08.jpg
ORGANIZER;CN="St. Mary Armenian Apostolic Church":MAILTO:office@stmarytoronto.ca
END:VEVENT
BEGIN:VEVENT
DTSTART;TZID=America/Toronto:20230401T093000
DTEND;TZID=America/Toronto:20230401T103000
DTSTAMP:20260420T143619
CREATED:20230331T232147Z
LAST-MODIFIED:20230331T232147Z
UID:6233-1680341400-1680345000@www.stmarytoronto.ca
SUMMARY:ՂԱԶԱՐՈՒ ՅԱՐՈՒԹԻՒՆ
DESCRIPTION:
URL:https://www.stmarytoronto.ca/event/%d5%b2%d5%a1%d5%a6%d5%a1%d6%80%d5%b8%d6%82-%d5%b5%d5%a1%d6%80%d5%b8%d6%82%d5%a9%d5%ab%d6%82%d5%b6/
LOCATION:St. Mary Armenian Apostolic Church\, 45 Hallcrown Pl.\, Toronto\, Ontario\, M2J 4Y4\, Canada
ORGANIZER;CN="St. Mary Armenian Apostolic Church":MAILTO:office@stmarytoronto.ca
END:VEVENT
BEGIN:VEVENT
DTSTART;TZID=America/Toronto:20220924T170000
DTEND;TZID=America/Toronto:20220924T173000
DTSTAMP:20260420T143619
CREATED:20220921T140130Z
LAST-MODIFIED:20230715T150824Z
UID:5401-1664038800-1664040600@www.stmarytoronto.ca
SUMMARY:ԿԻՐԱԿՄՈՒՏՔ
DESCRIPTION:
URL:https://www.stmarytoronto.ca/event/%d5%af%d5%ab%d6%80%d5%a1%d5%af%d5%b4%d5%b8%d6%82%d5%bf%d6%84evening-service/
LOCATION:St. Mary Armenian Apostolic Church\, 45 Hallcrown Pl.\, Toronto\, Ontario\, M2J 4Y4\, Canada
ORGANIZER;CN="St. Mary Armenian Apostolic Church":MAILTO:office@stmarytoronto.ca
END:VEVENT
BEGIN:VEVENT
DTSTART;TZID=America/Toronto:20220925T083000
DTEND;TZID=America/Toronto:20220925T103000
DTSTAMP:20260420T143619
CREATED:20220921T140252Z
LAST-MODIFIED:20250117T225802Z
UID:5405-1664094600-1664101800@www.stmarytoronto.ca
SUMMARY:Գիշերային եւ առաւօտեան ժամերգութիւն
DESCRIPTION:Գիշերային եւ առաւօտեան ժամերգութիւն
URL:https://www.stmarytoronto.ca/event/%d5%a3%d5%ab%d5%b7%d5%a5%d6%80%d5%a1%d5%b5%d5%ab%d5%b6-%d5%a5%d6%82-%d5%a1%d5%bc%d5%a1%d6%82%d6%85%d5%bf%d5%a5%d5%a1%d5%b6-%d5%aa%d5%a1%d5%b4%d5%a5%d6%80%d5%a3%d5%b8%d6%82%d5%a9%d5%ab%d6%82%d5%b6night/
LOCATION:St. Mary Armenian Apostolic Church\, 45 Hallcrown Pl.\, Toronto\, Ontario\, M2J 4Y4\, Canada
ORGANIZER;CN="St. Mary Armenian Apostolic Church":MAILTO:office@stmarytoronto.ca
END:VEVENT
BEGIN:VEVENT
DTSTART;TZID=America/Toronto:20230402T103000
DTEND;TZID=America/Toronto:20230402T123000
DTSTAMP:20260420T143619
CREATED:20230331T232620Z
LAST-MODIFIED:20230331T232620Z
UID:6237-1680431400-1680438600@www.stmarytoronto.ca
SUMMARY:Ս. ՊԱՏԱՐԱԳ
DESCRIPTION:
URL:https://www.stmarytoronto.ca/event/%d5%bd-%d5%ba%d5%a1%d5%bf%d5%a1%d6%80%d5%a1%d5%a3/
LOCATION:St. Mary Armenian Apostolic Church\, 45 Hallcrown Pl.\, Toronto\, Ontario\, M2J 4Y4\, Canada
ORGANIZER;CN="St. Mary Armenian Apostolic Church":MAILTO:office@stmarytoronto.ca
END:VEVENT
BEGIN:VEVENT
DTSTART;TZID=America/Toronto:20230402T123000
DTEND;TZID=America/Toronto:20230402T130000
DTSTAMP:20260420T143619
CREATED:20230331T232707Z
LAST-MODIFIED:20230331T232707Z
UID:6239-1680438600-1680440400@www.stmarytoronto.ca
SUMMARY:ԾԱՂԿԱԶԱՐԴԻ ԹԱՓՕՐ
DESCRIPTION:
URL:https://www.stmarytoronto.ca/event/%d5%ae%d5%a1%d5%b2%d5%af%d5%a1%d5%a6%d5%a1%d6%80%d5%a4%d5%ab-%d5%a9%d5%a1%d6%83%d6%85%d6%80/
LOCATION:St. Mary Armenian Apostolic Church\, 45 Hallcrown Pl.\, Toronto\, Ontario\, M2J 4Y4\, Canada
ORGANIZER;CN="St. Mary Armenian Apostolic Church":MAILTO:office@stmarytoronto.ca
END:VEVENT
BEGIN:VEVENT
DTSTART;TZID=America/Toronto:20230402T180000
DTEND;TZID=America/Toronto:20230402T200000
DTSTAMP:20260420T143619
CREATED:20230331T232800Z
LAST-MODIFIED:20230331T232800Z
UID:6241-1680458400-1680465600@www.stmarytoronto.ca
SUMMARY:ԴՌՆԲԱՑԷՔ
DESCRIPTION:
URL:https://www.stmarytoronto.ca/event/%d5%a4%d5%bc%d5%b6%d5%a2%d5%a1%d6%81%d5%a7%d6%84/
LOCATION:St. Mary Armenian Apostolic Church\, 45 Hallcrown Pl.\, Toronto\, Ontario\, M2J 4Y4\, Canada
ORGANIZER;CN="St. Mary Armenian Apostolic Church":MAILTO:office@stmarytoronto.ca
END:VEVENT
BEGIN:VEVENT
DTSTART;TZID=America/Toronto:20230403T093000
DTEND;TZID=America/Toronto:20230403T100000
DTSTAMP:20260420T143619
CREATED:20230331T233141Z
LAST-MODIFIED:20230331T233638Z
UID:6244-1680514200-1680516000@www.stmarytoronto.ca
SUMMARY:ԱՒԱԳ ԵՐԿՈՒՇԱԲԹԻ
DESCRIPTION:
URL:https://www.stmarytoronto.ca/event/%d5%a1%d6%82%d5%a1%d5%a3-%d5%a5%d6%80%d5%af%d5%b8%d6%82%d5%b7%d5%a1%d5%a2%d5%a9%d5%ab/
LOCATION:St. Mary Armenian Apostolic Church\, 45 Hallcrown Pl.\, Toronto\, Ontario\, M2J 4Y4\, Canada
ORGANIZER;CN="St. Mary Armenian Apostolic Church":MAILTO:office@stmarytoronto.ca
END:VEVENT
BEGIN:VEVENT
DTSTART;TZID=America/Toronto:20230403T193000
DTEND;TZID=America/Toronto:20230403T200000
DTSTAMP:20260420T143619
CREATED:20230331T233759Z
LAST-MODIFIED:20230331T233830Z
UID:6247-1680550200-1680552000@www.stmarytoronto.ca
SUMMARY:ԵՐԵԿՈՅԵԱՆ ԺԱՄԵՐԳՈՒԹԻՒՆ
DESCRIPTION:
URL:https://www.stmarytoronto.ca/event/%d5%a5%d6%80%d5%a5%d5%af%d5%b8%d5%b5%d5%a5%d5%a1%d5%b6-%d5%aa%d5%a1%d5%b4%d5%a5%d6%80%d5%a3%d5%b8%d6%82%d5%a9%d5%ab%d6%82%d5%b6/
LOCATION:St. Mary Armenian Apostolic Church\, 45 Hallcrown Pl.\, Toronto\, Ontario\, M2J 4Y4\, Canada
ORGANIZER;CN="St. Mary Armenian Apostolic Church":MAILTO:office@stmarytoronto.ca
END:VEVENT
BEGIN:VEVENT
DTSTART;TZID=America/Toronto:20230403T093000
DTEND;TZID=America/Toronto:20230403T100000
DTSTAMP:20260420T143619
CREATED:20230331T233141Z
LAST-MODIFIED:20230331T233638Z
UID:6244-1680514200-1680516000@www.stmarytoronto.ca
SUMMARY:ԱՒԱԳ ԵՐԿՈՒՇԱԲԹԻ
DESCRIPTION:
URL:https://www.stmarytoronto.ca/event/%d5%a1%d6%82%d5%a1%d5%a3-%d5%a5%d6%80%d5%af%d5%b8%d6%82%d5%b7%d5%a1%d5%a2%d5%a9%d5%ab/
LOCATION:St. Mary Armenian Apostolic Church\, 45 Hallcrown Pl.\, Toronto\, Ontario\, M2J 4Y4\, Canada
ORGANIZER;CN="St. Mary Armenian Apostolic Church":MAILTO:office@stmarytoronto.ca
END:VEVENT
BEGIN:VEVENT
DTSTART;TZID=America/Toronto:20230403T193000
DTEND;TZID=America/Toronto:20230403T200000
DTSTAMP:20260420T143619
CREATED:20230331T233759Z
LAST-MODIFIED:20230331T233830Z
UID:6247-1680550200-1680552000@www.stmarytoronto.ca
SUMMARY:ԵՐԵԿՈՅԵԱՆ ԺԱՄԵՐԳՈՒԹԻՒՆ
DESCRIPTION:
URL:https://www.stmarytoronto.ca/event/%d5%a5%d6%80%d5%a5%d5%af%d5%b8%d5%b5%d5%a5%d5%a1%d5%b6-%d5%aa%d5%a1%d5%b4%d5%a5%d6%80%d5%a3%d5%b8%d6%82%d5%a9%d5%ab%d6%82%d5%b6/
LOCATION:St. Mary Armenian Apostolic Church\, 45 Hallcrown Pl.\, Toronto\, Ontario\, M2J 4Y4\, Canada
ORGANIZER;CN="St. Mary Armenian Apostolic Church":MAILTO:office@stmarytoronto.ca
END:VEVENT
BEGIN:VEVENT
DTSTART;TZID=America/Toronto:20230403T093000
DTEND;TZID=America/Toronto:20230403T100000
DTSTAMP:20260420T143619
CREATED:20230331T233141Z
LAST-MODIFIED:20230331T233638Z
UID:6244-1680514200-1680516000@www.stmarytoronto.ca
SUMMARY:ԱՒԱԳ ԵՐԿՈՒՇԱԲԹԻ
DESCRIPTION:
URL:https://www.stmarytoronto.ca/event/%d5%a1%d6%82%d5%a1%d5%a3-%d5%a5%d6%80%d5%af%d5%b8%d6%82%d5%b7%d5%a1%d5%a2%d5%a9%d5%ab/
LOCATION:St. Mary Armenian Apostolic Church\, 45 Hallcrown Pl.\, Toronto\, Ontario\, M2J 4Y4\, Canada
ORGANIZER;CN="St. Mary Armenian Apostolic Church":MAILTO:office@stmarytoronto.ca
END:VEVENT
BEGIN:VEVENT
DTSTART;TZID=America/Toronto:20230403T193000
DTEND;TZID=America/Toronto:20230403T200000
DTSTAMP:20260420T143619
CREATED:20230331T233759Z
LAST-MODIFIED:20230331T233830Z
UID:6247-1680550200-1680552000@www.stmarytoronto.ca
SUMMARY:ԵՐԵԿՈՅԵԱՆ ԺԱՄԵՐԳՈՒԹԻՒՆ
DESCRIPTION:
URL:https://www.stmarytoronto.ca/event/%d5%a5%d6%80%d5%a5%d5%af%d5%b8%d5%b5%d5%a5%d5%a1%d5%b6-%d5%aa%d5%a1%d5%b4%d5%a5%d6%80%d5%a3%d5%b8%d6%82%d5%a9%d5%ab%d6%82%d5%b6/
LOCATION:St. Mary Armenian Apostolic Church\, 45 Hallcrown Pl.\, Toronto\, Ontario\, M2J 4Y4\, Canada
ORGANIZER;CN="St. Mary Armenian Apostolic Church":MAILTO:office@stmarytoronto.ca
END:VEVENT
BEGIN:VEVENT
DTSTART;TZID=America/Toronto:20230406T080000
DTEND;TZID=America/Toronto:20230406T093000
DTSTAMP:20260420T143619
CREATED:20230331T233950Z
LAST-MODIFIED:20230331T233950Z
UID:6250-1680768000-1680773400@www.stmarytoronto.ca
SUMMARY:ԿԱՐԳ ԱՊԱՇԽԱՐՈՂԱՑ
DESCRIPTION:
URL:https://www.stmarytoronto.ca/event/%d5%af%d5%a1%d6%80%d5%a3-%d5%a1%d5%ba%d5%a1%d5%b7%d5%ad%d5%a1%d6%80%d5%b8%d5%b2%d5%a1%d6%81/
LOCATION:St. Mary Armenian Apostolic Church\, 45 Hallcrown Pl.\, Toronto\, Ontario\, M2J 4Y4\, Canada
ORGANIZER;CN="St. Mary Armenian Apostolic Church":MAILTO:office@stmarytoronto.ca
END:VEVENT
BEGIN:VEVENT
DTSTART;TZID=America/Toronto:20230406T093000
DTEND;TZID=America/Toronto:20230406T130000
DTSTAMP:20260420T143619
CREATED:20230331T234040Z
LAST-MODIFIED:20230331T234040Z
UID:6252-1680773400-1680786000@www.stmarytoronto.ca
SUMMARY:Ս. ՀԱՂՈՐԴՈՒԹԻՒՆ ՊԱՏԱՐԱԳ
DESCRIPTION:
URL:https://www.stmarytoronto.ca/event/%d5%bd-%d5%b0%d5%a1%d5%b2%d5%b8%d6%80%d5%a4%d5%b8%d6%82%d5%a9%d5%ab%d6%82%d5%b6-%d5%ba%d5%a1%d5%bf%d5%a1%d6%80%d5%a1%d5%a3/
LOCATION:St. Mary Armenian Apostolic Church\, 45 Hallcrown Pl.\, Toronto\, Ontario\, M2J 4Y4\, Canada
ORGANIZER;CN="St. Mary Armenian Apostolic Church":MAILTO:office@stmarytoronto.ca
END:VEVENT
BEGIN:VEVENT
DTSTART;TZID=America/Toronto:20230406T160000
DTEND;TZID=America/Toronto:20230406T173000
DTSTAMP:20260420T143619
CREATED:20230331T234202Z
LAST-MODIFIED:20230331T234315Z
UID:6254-1680796800-1680802200@www.stmarytoronto.ca
SUMMARY:ՈՏՆԼՈՒԱՅ ՅԵՏՄԻՋՕՐԷԻ
DESCRIPTION:
URL:https://www.stmarytoronto.ca/event/%d5%b8%d5%bf%d5%b6%d5%ac%d5%b8%d6%82%d5%a1%d5%b5-%d5%b5%d5%a5%d5%bf%d5%b4%d5%ab%d5%bb%d6%85%d6%80%d5%a7%d5%ab/
LOCATION:St. Mary Armenian Apostolic Church\, 45 Hallcrown Pl.\, Toronto\, Ontario\, M2J 4Y4\, Canada
ORGANIZER;CN="St. Mary Armenian Apostolic Church":MAILTO:office@stmarytoronto.ca
END:VEVENT
BEGIN:VEVENT
DTSTART;TZID=America/Toronto:20230406T200000
DTEND;TZID=America/Toronto:20230407T010000
DTSTAMP:20260420T143619
CREATED:20230331T234431Z
LAST-MODIFIED:20230331T234431Z
UID:6256-1680811200-1680829200@www.stmarytoronto.ca
SUMMARY:ԽԱՒԱՐՈՒՄ ԵՐԵԿՈՅԵԱՆ
DESCRIPTION:
URL:https://www.stmarytoronto.ca/event/%d5%ad%d5%a1%d6%82%d5%a1%d6%80%d5%b8%d6%82%d5%b4-%d5%a5%d6%80%d5%a5%d5%af%d5%b8%d5%b5%d5%a5%d5%a1%d5%b6/
LOCATION:St. Mary Armenian Apostolic Church\, 45 Hallcrown Pl.\, Toronto\, Ontario\, M2J 4Y4\, Canada
ORGANIZER;CN="St. Mary Armenian Apostolic Church":MAILTO:office@stmarytoronto.ca
END:VEVENT
BEGIN:VEVENT
DTSTART;TZID=America/Toronto:20230407T093000
DTEND;TZID=America/Toronto:20230407T103000
DTSTAMP:20260420T143619
CREATED:20230331T234553Z
LAST-MODIFIED:20230331T234553Z
UID:6258-1680859800-1680863400@www.stmarytoronto.ca
SUMMARY:ԿԱՐԳ ԽԱՉԵԼՈՒԹԵԱՆ
DESCRIPTION:
URL:https://www.stmarytoronto.ca/event/%d5%af%d5%a1%d6%80%d5%a3-%d5%ad%d5%a1%d5%b9%d5%a5%d5%ac%d5%b8%d6%82%d5%a9%d5%a5%d5%a1%d5%b6/
LOCATION:St. Mary Armenian Apostolic Church\, 45 Hallcrown Pl.\, Toronto\, Ontario\, M2J 4Y4\, Canada
ORGANIZER;CN="St. Mary Armenian Apostolic Church":MAILTO:office@stmarytoronto.ca
END:VEVENT
BEGIN:VEVENT
DTSTART;TZID=America/Toronto:20230407T160000
DTEND;TZID=America/Toronto:20230407T170000
DTSTAMP:20260420T143619
CREATED:20230331T234630Z
LAST-MODIFIED:20230331T234630Z
UID:6260-1680883200-1680886800@www.stmarytoronto.ca
SUMMARY:ԿԱՐԳ ԹԱՂՄԱՆ
DESCRIPTION:
URL:https://www.stmarytoronto.ca/event/%d5%af%d5%a1%d6%80%d5%a3-%d5%a9%d5%a1%d5%b2%d5%b4%d5%a1%d5%b6/
LOCATION:St. Mary Armenian Apostolic Church\, 45 Hallcrown Pl.\, Toronto\, Ontario\, M2J 4Y4\, Canada
ORGANIZER;CN="St. Mary Armenian Apostolic Church":MAILTO:office@stmarytoronto.ca
END:VEVENT
BEGIN:VEVENT
DTSTART;TZID=America/Toronto:20230407T170000
DTEND;TZID=America/Toronto:20230407T190000
DTSTAMP:20260420T143619
CREATED:20230331T234714Z
LAST-MODIFIED:20230331T234714Z
UID:6262-1680886800-1680894000@www.stmarytoronto.ca
SUMMARY:ԹԱՓՕՐ
DESCRIPTION:
URL:https://www.stmarytoronto.ca/event/%d5%a9%d5%a1%d6%83%d6%85%d6%80/
LOCATION:St. Mary Armenian Apostolic Church\, 45 Hallcrown Pl.\, Toronto\, Ontario\, M2J 4Y4\, Canada
ORGANIZER;CN="St. Mary Armenian Apostolic Church":MAILTO:office@stmarytoronto.ca
END:VEVENT
BEGIN:VEVENT
DTSTART;TZID=America/Toronto:20230408T093000
DTEND;TZID=America/Toronto:20230408T103000
DTSTAMP:20260420T143619
CREATED:20230331T234935Z
LAST-MODIFIED:20230331T234935Z
UID:6264-1680946200-1680949800@www.stmarytoronto.ca
SUMMARY:ԱՌԱՒՕՏԵԱՆ ԺԱՄԵՐԳՈՒԹԻՒՆ
DESCRIPTION:
URL:https://www.stmarytoronto.ca/event/%d5%a1%d5%bc%d5%a1%d6%82%d6%85%d5%bf%d5%a5%d5%a1%d5%b6-%d5%aa%d5%a1%d5%b4%d5%a5%d6%80%d5%a3%d5%b8%d6%82%d5%a9%d5%ab%d6%82%d5%b6-3/
LOCATION:St. Mary Armenian Apostolic Church\, 45 Hallcrown Pl.\, Toronto\, Ontario\, M2J 4Y4\, Canada
ORGANIZER;CN="St. Mary Armenian Apostolic Church":MAILTO:office@stmarytoronto.ca
END:VEVENT
BEGIN:VEVENT
DTSTART;TZID=America/Toronto:20230408T160000
DTEND;TZID=America/Toronto:20230408T163000
DTSTAMP:20260420T143619
CREATED:20230331T235055Z
LAST-MODIFIED:20230331T235055Z
UID:6266-1680969600-1680971400@www.stmarytoronto.ca
SUMMARY:ՃԱՇՈՒ ԺԱՄԵՐԳՈՒԹԻՒՆ
DESCRIPTION:
URL:https://www.stmarytoronto.ca/event/%d5%b3%d5%a1%d5%b7%d5%b8%d6%82-%d5%aa%d5%a1%d5%b4%d5%a5%d6%80%d5%a3%d5%b8%d6%82%d5%a9%d5%ab%d6%82%d5%b6/
LOCATION:St. Mary Armenian Apostolic Church\, 45 Hallcrown Pl.\, Toronto\, Ontario\, M2J 4Y4\, Canada
ORGANIZER;CN="St. Mary Armenian Apostolic Church":MAILTO:office@stmarytoronto.ca
END:VEVENT
BEGIN:VEVENT
DTSTART;TZID=America/Toronto:20230408T163000
DTEND;TZID=America/Toronto:20230408T173000
DTSTAMP:20260420T143619
CREATED:20230331T235249Z
LAST-MODIFIED:20230331T235249Z
UID:6270-1680971400-1680975000@www.stmarytoronto.ca
SUMMARY:Ս. ԳԻՐՔԵՐՈՒ ԸՆԹԵՐՑՈՒՄ
DESCRIPTION:
URL:https://www.stmarytoronto.ca/event/%d5%bd-%d5%a3%d5%ab%d6%80%d6%84%d5%a5%d6%80%d5%b8%d6%82-%d5%a8%d5%b6%d5%a9%d5%a5%d6%80%d6%81%d5%b8%d6%82%d5%b4/
LOCATION:St. Mary Armenian Apostolic Church\, 45 Hallcrown Pl.\, Toronto\, Ontario\, M2J 4Y4\, Canada
ORGANIZER;CN="St. Mary Armenian Apostolic Church":MAILTO:office@stmarytoronto.ca
END:VEVENT
BEGIN:VEVENT
DTSTART;TZID=America/Toronto:20230408T173000
DTEND;TZID=America/Toronto:20230408T193000
DTSTAMP:20260420T143619
CREATED:20230331T235814Z
LAST-MODIFIED:20230401T002057Z
UID:6272-1680975000-1680982200@www.stmarytoronto.ca
SUMMARY:ՃՐԱԳԱԼՈՅՑԻ Ս. ՊԱՏԱՐԱԳ
DESCRIPTION:
URL:https://www.stmarytoronto.ca/event/%d5%b3%d6%80%d5%a1%d5%a3%d5%a1%d5%ac%d5%b8%d5%b5%d5%bd%d5%ab-%d5%bd-%d5%ba%d5%a1%d5%bf%d5%a1%d6%80%d5%a1%d5%a3/
LOCATION:St. Mary Armenian Apostolic Church\, 45 Hallcrown Pl.\, Toronto\, Ontario\, M2J 4Y4\, Canada
ORGANIZER;CN="St. Mary Armenian Apostolic Church":MAILTO:office@stmarytoronto.ca
END:VEVENT
BEGIN:VEVENT
DTSTART;TZID=America/Toronto:20220925T083000
DTEND;TZID=America/Toronto:20220925T103000
DTSTAMP:20260420T143619
CREATED:20220921T140252Z
LAST-MODIFIED:20250117T225802Z
UID:5405-1664094600-1664101800@www.stmarytoronto.ca
SUMMARY:Գիշերային եւ առաւօտեան ժամերգութիւն
DESCRIPTION:Գիշերային եւ առաւօտեան ժամերգութիւն
URL:https://www.stmarytoronto.ca/event/%d5%a3%d5%ab%d5%b7%d5%a5%d6%80%d5%a1%d5%b5%d5%ab%d5%b6-%d5%a5%d6%82-%d5%a1%d5%bc%d5%a1%d6%82%d6%85%d5%bf%d5%a5%d5%a1%d5%b6-%d5%aa%d5%a1%d5%b4%d5%a5%d6%80%d5%a3%d5%b8%d6%82%d5%a9%d5%ab%d6%82%d5%b6night/
LOCATION:St. Mary Armenian Apostolic Church\, 45 Hallcrown Pl.\, Toronto\, Ontario\, M2J 4Y4\, Canada
ORGANIZER;CN="St. Mary Armenian Apostolic Church":MAILTO:office@stmarytoronto.ca
END:VEVENT
BEGIN:VEVENT
DTSTART;TZID=America/Toronto:20230409T083000
DTEND;TZID=America/Toronto:20230409T103000
DTSTAMP:20260420T143619
CREATED:20230331T235908Z
LAST-MODIFIED:20230331T235908Z
UID:6274-1681029000-1681036200@www.stmarytoronto.ca
SUMMARY:ԱՌԱՒՕՏԵԱՆ ԺԱՄԵՐԳՈՒԹԻՒՆ
DESCRIPTION:
URL:https://www.stmarytoronto.ca/event/%d5%a1%d5%bc%d5%a1%d6%82%d6%85%d5%bf%d5%a5%d5%a1%d5%b6-%d5%aa%d5%a1%d5%b4%d5%a5%d6%80%d5%a3%d5%b8%d6%82%d5%a9%d5%ab%d6%82%d5%b6-4/
LOCATION:St. Mary Armenian Apostolic Church\, 45 Hallcrown Pl.\, Toronto\, Ontario\, M2J 4Y4\, Canada
ORGANIZER;CN="St. Mary Armenian Apostolic Church":MAILTO:office@stmarytoronto.ca
END:VEVENT
BEGIN:VEVENT
DTSTART;TZID=America/Toronto:20221002T103000
DTEND;TZID=America/Toronto:20221002T130000
DTSTAMP:20260420T143619
CREATED:20221004T021236Z
LAST-MODIFIED:20230512T144532Z
UID:5660-1664706600-1664715600@www.stmarytoronto.ca
SUMMARY:Ս. ՊԱՏԱՐԱԳ
DESCRIPTION:Ս. ՊԱՏԱՐԱԳ
URL:https://www.stmarytoronto.ca/event/%d5%bd-%d5%ba%d5%a1%d5%bf%d5%a1%d6%80%d5%a1%d5%a3divine-liturgy-2/
LOCATION:St. Mary Armenian Apostolic Church\, 45 Hallcrown Pl.\, Toronto\, Ontario\, M2J 4Y4\, Canada
ORGANIZER;CN="St. Mary Armenian Apostolic Church":MAILTO:office@stmarytoronto.ca
END:VEVENT
BEGIN:VEVENT
DTSTART;VALUE=DATE:20230410
DTEND;VALUE=DATE:20230425
DTSTAMP:20260420T143619
CREATED:20221118T145947Z
LAST-MODIFIED:20221118T145947Z
UID:5843-1681084800-1682380799@www.stmarytoronto.ca
SUMMARY:Ս. ԶԱՏԿՈՒԱՆ ՈՒԽՏԱԳՆԱՑՈՒԹԻՒՆ  Easter Pilgrimage
DESCRIPTION:
URL:https://www.stmarytoronto.ca/event/%d5%bd-%d5%a6%d5%a1%d5%bf%d5%af%d5%b8%d6%82%d5%a1%d5%b6-%d5%b8%d6%82%d5%ad%d5%bf%d5%a1%d5%a3%d5%b6%d5%a1%d6%81%d5%b8%d6%82%d5%a9%d5%ab%d6%82%d5%b6-easter-pilgrimage/
LOCATION:St. Mary Armenian Apostolic Church\, 45 Hallcrown Pl.\, Toronto\, Ontario\, M2J 4Y4\, Canada
ATTACH;FMTTYPE=image/jpeg:https://www.stmarytoronto.ca/wp-content/uploads/2022/11/jeruselum-arm.jpg
ORGANIZER;CN="St. Mary Armenian Apostolic Church":MAILTO:office@stmarytoronto.ca
END:VEVENT
BEGIN:VEVENT
DTSTART;TZID=America/Toronto:20230410T100000
DTEND;TZID=America/Toronto:20230410T130000
DTSTAMP:20260420T143619
CREATED:20230401T000720Z
LAST-MODIFIED:20230401T000720Z
UID:6278-1681120800-1681131600@www.stmarytoronto.ca
SUMMARY:Ս. ՊԱՏԱՐԱԳ ԵՒ ՀՈԳԵՀԱՆԳԻՍՏ
DESCRIPTION:«Ս. ԱՍՏՈՒԱԾԱԾԻՆ» ԵԿԵՂԵՑԵՈՅ ՄԷՋ
URL:https://www.stmarytoronto.ca/event/%d5%bd-%d5%ba%d5%a1%d5%bf%d5%a1%d6%80%d5%a1%d5%a3-%d5%a5%d6%82-%d5%b0%d5%b8%d5%a3%d5%a5%d5%b0%d5%a1%d5%b6%d5%a3%d5%ab%d5%bd%d5%bf/
LOCATION:St. Mary Armenian Apostolic Church\, 45 Hallcrown Pl.\, Toronto\, Ontario\, M2J 4Y4\, Canada
ORGANIZER;CN="St. Mary Armenian Apostolic Church":MAILTO:office@stmarytoronto.ca
END:VEVENT
BEGIN:VEVENT
DTSTART;TZID=America/Toronto:20220924T170000
DTEND;TZID=America/Toronto:20220924T173000
DTSTAMP:20260420T143619
CREATED:20220921T140130Z
LAST-MODIFIED:20230715T150824Z
UID:5401-1664038800-1664040600@www.stmarytoronto.ca
SUMMARY:ԿԻՐԱԿՄՈՒՏՔ
DESCRIPTION:
URL:https://www.stmarytoronto.ca/event/%d5%af%d5%ab%d6%80%d5%a1%d5%af%d5%b4%d5%b8%d6%82%d5%bf%d6%84evening-service/
LOCATION:St. Mary Armenian Apostolic Church\, 45 Hallcrown Pl.\, Toronto\, Ontario\, M2J 4Y4\, Canada
ORGANIZER;CN="St. Mary Armenian Apostolic Church":MAILTO:office@stmarytoronto.ca
END:VEVENT
END:VCALENDAR