BEGIN:VCALENDAR
VERSION:2.0
PRODID:-//St. Mary Armenian Apostolic Church - ECPv6.15.17//NONSGML v1.0//EN
CALSCALE:GREGORIAN
METHOD:PUBLISH
X-ORIGINAL-URL:https://www.stmarytoronto.ca
X-WR-CALDESC:Events for St. Mary Armenian Apostolic Church
REFRESH-INTERVAL;VALUE=DURATION:PT1H
X-Robots-Tag:noindex
X-PUBLISHED-TTL:PT1H
BEGIN:VTIMEZONE
TZID:America/Toronto
BEGIN:DAYLIGHT
TZOFFSETFROM:-0500
TZOFFSETTO:-0400
TZNAME:EDT
DTSTART:20210314T070000
END:DAYLIGHT
BEGIN:STANDARD
TZOFFSETFROM:-0400
TZOFFSETTO:-0500
TZNAME:EST
DTSTART:20211107T060000
END:STANDARD
BEGIN:DAYLIGHT
TZOFFSETFROM:-0500
TZOFFSETTO:-0400
TZNAME:EDT
DTSTART:20220313T070000
END:DAYLIGHT
BEGIN:STANDARD
TZOFFSETFROM:-0400
TZOFFSETTO:-0500
TZNAME:EST
DTSTART:20221106T060000
END:STANDARD
BEGIN:DAYLIGHT
TZOFFSETFROM:-0500
TZOFFSETTO:-0400
TZNAME:EDT
DTSTART:20230312T070000
END:DAYLIGHT
BEGIN:STANDARD
TZOFFSETFROM:-0400
TZOFFSETTO:-0500
TZNAME:EST
DTSTART:20231105T060000
END:STANDARD
BEGIN:DAYLIGHT
TZOFFSETFROM:-0500
TZOFFSETTO:-0400
TZNAME:EDT
DTSTART:20240310T070000
END:DAYLIGHT
BEGIN:STANDARD
TZOFFSETFROM:-0400
TZOFFSETTO:-0500
TZNAME:EST
DTSTART:20241103T060000
END:STANDARD
BEGIN:DAYLIGHT
TZOFFSETFROM:-0500
TZOFFSETTO:-0400
TZNAME:EDT
DTSTART:20250309T070000
END:DAYLIGHT
BEGIN:STANDARD
TZOFFSETFROM:-0400
TZOFFSETTO:-0500
TZNAME:EST
DTSTART:20251102T060000
END:STANDARD
END:VTIMEZONE
BEGIN:VEVENT
DTSTART;TZID=America/Toronto:20221002T103000
DTEND;TZID=America/Toronto:20221002T130000
DTSTAMP:20260421T133925
CREATED:20221004T021236Z
LAST-MODIFIED:20230512T144532Z
UID:5660-1664706600-1664715600@www.stmarytoronto.ca
SUMMARY:Ս. ՊԱՏԱՐԱԳ
DESCRIPTION:Ս. ՊԱՏԱՐԱԳ
URL:https://www.stmarytoronto.ca/event/%d5%bd-%d5%ba%d5%a1%d5%bf%d5%a1%d6%80%d5%a1%d5%a3divine-liturgy-2/
LOCATION:St. Mary Armenian Apostolic Church\, 45 Hallcrown Pl.\, Toronto\, Ontario\, M2J 4Y4\, Canada
ORGANIZER;CN="St. Mary Armenian Apostolic Church":MAILTO:office@stmarytoronto.ca
END:VEVENT
BEGIN:VEVENT
DTSTART;TZID=America/Toronto:20220924T170000
DTEND;TZID=America/Toronto:20220924T173000
DTSTAMP:20260421T133925
CREATED:20220921T140130Z
LAST-MODIFIED:20230715T150824Z
UID:5401-1664038800-1664040600@www.stmarytoronto.ca
SUMMARY:ԿԻՐԱԿՄՈՒՏՔ
DESCRIPTION:
URL:https://www.stmarytoronto.ca/event/%d5%af%d5%ab%d6%80%d5%a1%d5%af%d5%b4%d5%b8%d6%82%d5%bf%d6%84evening-service/
LOCATION:St. Mary Armenian Apostolic Church\, 45 Hallcrown Pl.\, Toronto\, Ontario\, M2J 4Y4\, Canada
ORGANIZER;CN="St. Mary Armenian Apostolic Church":MAILTO:office@stmarytoronto.ca
END:VEVENT
BEGIN:VEVENT
DTSTART;TZID=America/Toronto:20220925T083000
DTEND;TZID=America/Toronto:20220925T103000
DTSTAMP:20260421T133925
CREATED:20220921T140252Z
LAST-MODIFIED:20250117T225802Z
UID:5405-1664094600-1664101800@www.stmarytoronto.ca
SUMMARY:Գիշերային եւ առաւօտեան ժամերգութիւն
DESCRIPTION:Գիշերային եւ առաւօտեան ժամերգութիւն
URL:https://www.stmarytoronto.ca/event/%d5%a3%d5%ab%d5%b7%d5%a5%d6%80%d5%a1%d5%b5%d5%ab%d5%b6-%d5%a5%d6%82-%d5%a1%d5%bc%d5%a1%d6%82%d6%85%d5%bf%d5%a5%d5%a1%d5%b6-%d5%aa%d5%a1%d5%b4%d5%a5%d6%80%d5%a3%d5%b8%d6%82%d5%a9%d5%ab%d6%82%d5%b6night/
LOCATION:St. Mary Armenian Apostolic Church\, 45 Hallcrown Pl.\, Toronto\, Ontario\, M2J 4Y4\, Canada
ORGANIZER;CN="St. Mary Armenian Apostolic Church":MAILTO:office@stmarytoronto.ca
END:VEVENT
BEGIN:VEVENT
DTSTART;TZID=America/Toronto:20221002T103000
DTEND;TZID=America/Toronto:20221002T130000
DTSTAMP:20260421T133925
CREATED:20221004T021236Z
LAST-MODIFIED:20230512T144532Z
UID:5660-1664706600-1664715600@www.stmarytoronto.ca
SUMMARY:Ս. ՊԱՏԱՐԱԳ
DESCRIPTION:Ս. ՊԱՏԱՐԱԳ
URL:https://www.stmarytoronto.ca/event/%d5%bd-%d5%ba%d5%a1%d5%bf%d5%a1%d6%80%d5%a1%d5%a3divine-liturgy-2/
LOCATION:St. Mary Armenian Apostolic Church\, 45 Hallcrown Pl.\, Toronto\, Ontario\, M2J 4Y4\, Canada
ORGANIZER;CN="St. Mary Armenian Apostolic Church":MAILTO:office@stmarytoronto.ca
END:VEVENT
BEGIN:VEVENT
DTSTART;TZID=America/Toronto:20220924T170000
DTEND;TZID=America/Toronto:20220924T173000
DTSTAMP:20260421T133925
CREATED:20220921T140130Z
LAST-MODIFIED:20230715T150824Z
UID:5401-1664038800-1664040600@www.stmarytoronto.ca
SUMMARY:ԿԻՐԱԿՄՈՒՏՔ
DESCRIPTION:
URL:https://www.stmarytoronto.ca/event/%d5%af%d5%ab%d6%80%d5%a1%d5%af%d5%b4%d5%b8%d6%82%d5%bf%d6%84evening-service/
LOCATION:St. Mary Armenian Apostolic Church\, 45 Hallcrown Pl.\, Toronto\, Ontario\, M2J 4Y4\, Canada
ORGANIZER;CN="St. Mary Armenian Apostolic Church":MAILTO:office@stmarytoronto.ca
END:VEVENT
BEGIN:VEVENT
DTSTART;TZID=America/Toronto:20220925T083000
DTEND;TZID=America/Toronto:20220925T103000
DTSTAMP:20260421T133925
CREATED:20220921T140252Z
LAST-MODIFIED:20250117T225802Z
UID:5405-1664094600-1664101800@www.stmarytoronto.ca
SUMMARY:Գիշերային եւ առաւօտեան ժամերգութիւն
DESCRIPTION:Գիշերային եւ առաւօտեան ժամերգութիւն
URL:https://www.stmarytoronto.ca/event/%d5%a3%d5%ab%d5%b7%d5%a5%d6%80%d5%a1%d5%b5%d5%ab%d5%b6-%d5%a5%d6%82-%d5%a1%d5%bc%d5%a1%d6%82%d6%85%d5%bf%d5%a5%d5%a1%d5%b6-%d5%aa%d5%a1%d5%b4%d5%a5%d6%80%d5%a3%d5%b8%d6%82%d5%a9%d5%ab%d6%82%d5%b6night/
LOCATION:St. Mary Armenian Apostolic Church\, 45 Hallcrown Pl.\, Toronto\, Ontario\, M2J 4Y4\, Canada
ORGANIZER;CN="St. Mary Armenian Apostolic Church":MAILTO:office@stmarytoronto.ca
END:VEVENT
BEGIN:VEVENT
DTSTART;TZID=America/Toronto:20221002T103000
DTEND;TZID=America/Toronto:20221002T130000
DTSTAMP:20260421T133925
CREATED:20221004T021236Z
LAST-MODIFIED:20230512T144532Z
UID:5660-1664706600-1664715600@www.stmarytoronto.ca
SUMMARY:Ս. ՊԱՏԱՐԱԳ
DESCRIPTION:Ս. ՊԱՏԱՐԱԳ
URL:https://www.stmarytoronto.ca/event/%d5%bd-%d5%ba%d5%a1%d5%bf%d5%a1%d6%80%d5%a1%d5%a3divine-liturgy-2/
LOCATION:St. Mary Armenian Apostolic Church\, 45 Hallcrown Pl.\, Toronto\, Ontario\, M2J 4Y4\, Canada
ORGANIZER;CN="St. Mary Armenian Apostolic Church":MAILTO:office@stmarytoronto.ca
END:VEVENT
BEGIN:VEVENT
DTSTART;TZID=America/Toronto:20220924T170000
DTEND;TZID=America/Toronto:20220924T173000
DTSTAMP:20260421T133925
CREATED:20220921T140130Z
LAST-MODIFIED:20230715T150824Z
UID:5401-1664038800-1664040600@www.stmarytoronto.ca
SUMMARY:ԿԻՐԱԿՄՈՒՏՔ
DESCRIPTION:
URL:https://www.stmarytoronto.ca/event/%d5%af%d5%ab%d6%80%d5%a1%d5%af%d5%b4%d5%b8%d6%82%d5%bf%d6%84evening-service/
LOCATION:St. Mary Armenian Apostolic Church\, 45 Hallcrown Pl.\, Toronto\, Ontario\, M2J 4Y4\, Canada
ORGANIZER;CN="St. Mary Armenian Apostolic Church":MAILTO:office@stmarytoronto.ca
END:VEVENT
BEGIN:VEVENT
DTSTART;TZID=America/Toronto:20240127T184500
DTEND;TZID=America/Toronto:20240127T210000
DTSTAMP:20260421T133925
CREATED:20240115T234255Z
LAST-MODIFIED:20240115T234255Z
UID:6904-1706381100-1706389200@www.stmarytoronto.ca
SUMMARY:ICE SKATING | ՉՄՇԿԵԼ
DESCRIPTION:
URL:https://www.stmarytoronto.ca/event/ice-skating-%d5%b9%d5%b4%d5%b7%d5%af%d5%a5%d5%ac/
LOCATION:St. Mary Armenian Apostolic Church\, 45 Hallcrown Pl.\, Toronto\, Ontario\, M2J 4Y4\, Canada
ATTACH;FMTTYPE=image/jpeg:https://www.stmarytoronto.ca/wp-content/uploads/2024/01/419389409_770266031809321_3589871086115330928_n.jpg
ORGANIZER;CN="St. Mary Armenian Apostolic Church":MAILTO:office@stmarytoronto.ca
END:VEVENT
BEGIN:VEVENT
DTSTART;TZID=America/Toronto:20220925T083000
DTEND;TZID=America/Toronto:20220925T103000
DTSTAMP:20260421T133925
CREATED:20220921T140252Z
LAST-MODIFIED:20250117T225802Z
UID:5405-1664094600-1664101800@www.stmarytoronto.ca
SUMMARY:Գիշերային եւ առաւօտեան ժամերգութիւն
DESCRIPTION:Գիշերային եւ առաւօտեան ժամերգութիւն
URL:https://www.stmarytoronto.ca/event/%d5%a3%d5%ab%d5%b7%d5%a5%d6%80%d5%a1%d5%b5%d5%ab%d5%b6-%d5%a5%d6%82-%d5%a1%d5%bc%d5%a1%d6%82%d6%85%d5%bf%d5%a5%d5%a1%d5%b6-%d5%aa%d5%a1%d5%b4%d5%a5%d6%80%d5%a3%d5%b8%d6%82%d5%a9%d5%ab%d6%82%d5%b6night/
LOCATION:St. Mary Armenian Apostolic Church\, 45 Hallcrown Pl.\, Toronto\, Ontario\, M2J 4Y4\, Canada
ORGANIZER;CN="St. Mary Armenian Apostolic Church":MAILTO:office@stmarytoronto.ca
END:VEVENT
BEGIN:VEVENT
DTSTART;TZID=America/Toronto:20221002T103000
DTEND;TZID=America/Toronto:20221002T130000
DTSTAMP:20260421T133925
CREATED:20221004T021236Z
LAST-MODIFIED:20230512T144532Z
UID:5660-1664706600-1664715600@www.stmarytoronto.ca
SUMMARY:Ս. ՊԱՏԱՐԱԳ
DESCRIPTION:Ս. ՊԱՏԱՐԱԳ
URL:https://www.stmarytoronto.ca/event/%d5%bd-%d5%ba%d5%a1%d5%bf%d5%a1%d6%80%d5%a1%d5%a3divine-liturgy-2/
LOCATION:St. Mary Armenian Apostolic Church\, 45 Hallcrown Pl.\, Toronto\, Ontario\, M2J 4Y4\, Canada
ORGANIZER;CN="St. Mary Armenian Apostolic Church":MAILTO:office@stmarytoronto.ca
END:VEVENT
BEGIN:VEVENT
DTSTART;TZID=America/Toronto:20220924T170000
DTEND;TZID=America/Toronto:20220924T173000
DTSTAMP:20260421T133925
CREATED:20220921T140130Z
LAST-MODIFIED:20230715T150824Z
UID:5401-1664038800-1664040600@www.stmarytoronto.ca
SUMMARY:ԿԻՐԱԿՄՈՒՏՔ
DESCRIPTION:
URL:https://www.stmarytoronto.ca/event/%d5%af%d5%ab%d6%80%d5%a1%d5%af%d5%b4%d5%b8%d6%82%d5%bf%d6%84evening-service/
LOCATION:St. Mary Armenian Apostolic Church\, 45 Hallcrown Pl.\, Toronto\, Ontario\, M2J 4Y4\, Canada
ORGANIZER;CN="St. Mary Armenian Apostolic Church":MAILTO:office@stmarytoronto.ca
END:VEVENT
BEGIN:VEVENT
DTSTART;TZID=America/Toronto:20220925T083000
DTEND;TZID=America/Toronto:20220925T103000
DTSTAMP:20260421T133925
CREATED:20220921T140252Z
LAST-MODIFIED:20250117T225802Z
UID:5405-1664094600-1664101800@www.stmarytoronto.ca
SUMMARY:Գիշերային եւ առաւօտեան ժամերգութիւն
DESCRIPTION:Գիշերային եւ առաւօտեան ժամերգութիւն
URL:https://www.stmarytoronto.ca/event/%d5%a3%d5%ab%d5%b7%d5%a5%d6%80%d5%a1%d5%b5%d5%ab%d5%b6-%d5%a5%d6%82-%d5%a1%d5%bc%d5%a1%d6%82%d6%85%d5%bf%d5%a5%d5%a1%d5%b6-%d5%aa%d5%a1%d5%b4%d5%a5%d6%80%d5%a3%d5%b8%d6%82%d5%a9%d5%ab%d6%82%d5%b6night/
LOCATION:St. Mary Armenian Apostolic Church\, 45 Hallcrown Pl.\, Toronto\, Ontario\, M2J 4Y4\, Canada
ORGANIZER;CN="St. Mary Armenian Apostolic Church":MAILTO:office@stmarytoronto.ca
END:VEVENT
BEGIN:VEVENT
DTSTART;TZID=America/Toronto:20221002T103000
DTEND;TZID=America/Toronto:20221002T130000
DTSTAMP:20260421T133925
CREATED:20221004T021236Z
LAST-MODIFIED:20230512T144532Z
UID:5660-1664706600-1664715600@www.stmarytoronto.ca
SUMMARY:Ս. ՊԱՏԱՐԱԳ
DESCRIPTION:Ս. ՊԱՏԱՐԱԳ
URL:https://www.stmarytoronto.ca/event/%d5%bd-%d5%ba%d5%a1%d5%bf%d5%a1%d6%80%d5%a1%d5%a3divine-liturgy-2/
LOCATION:St. Mary Armenian Apostolic Church\, 45 Hallcrown Pl.\, Toronto\, Ontario\, M2J 4Y4\, Canada
ORGANIZER;CN="St. Mary Armenian Apostolic Church":MAILTO:office@stmarytoronto.ca
END:VEVENT
BEGIN:VEVENT
DTSTART;TZID=America/Toronto:20240208T193000
DTEND;TZID=America/Toronto:20240208T193000
DTSTAMP:20260421T133925
CREATED:20240208T233353Z
LAST-MODIFIED:20240208T233353Z
UID:6937-1707420600-1707420600@www.stmarytoronto.ca
SUMMARY:ՎԱՐԴԱՆԱՆՑ ՏՕՆԱԿԱՏԱՐՈՒԹԻՒՆ- St. Vartan The Warrior and His Companions
DESCRIPTION:Հայ կաթողիկէ Ս․ Գրիգոր Լուսաւորիչ Եկեղեցւոյ մեջ  (100 Northdale Rd.\, Toronto\, ON)
URL:https://www.stmarytoronto.ca/event/%d5%be%d5%a1%d6%80%d5%a4%d5%a1%d5%b6%d5%a1%d5%b6%d6%81-%d5%bf%d6%85%d5%b6%d5%a1%d5%af%d5%a1%d5%bf%d5%a1%d6%80%d5%b8%d6%82%d5%a9%d5%ab%d6%82%d5%b6-st-vartan-the-warrior-and-his-companions/
LOCATION:St. Mary Armenian Apostolic Church\, 45 Hallcrown Pl.\, Toronto\, Ontario\, M2J 4Y4\, Canada
ATTACH;FMTTYPE=image/jpeg:https://www.stmarytoronto.ca/wp-content/uploads/2024/02/154730474592629_787354156767175-0-400.jpg
ORGANIZER;CN="St. Mary Armenian Apostolic Church":MAILTO:office@stmarytoronto.ca
END:VEVENT
BEGIN:VEVENT
DTSTART;TZID=America/Toronto:20220924T170000
DTEND;TZID=America/Toronto:20220924T173000
DTSTAMP:20260421T133925
CREATED:20220921T140130Z
LAST-MODIFIED:20230715T150824Z
UID:5401-1664038800-1664040600@www.stmarytoronto.ca
SUMMARY:ԿԻՐԱԿՄՈՒՏՔ
DESCRIPTION:
URL:https://www.stmarytoronto.ca/event/%d5%af%d5%ab%d6%80%d5%a1%d5%af%d5%b4%d5%b8%d6%82%d5%bf%d6%84evening-service/
LOCATION:St. Mary Armenian Apostolic Church\, 45 Hallcrown Pl.\, Toronto\, Ontario\, M2J 4Y4\, Canada
ORGANIZER;CN="St. Mary Armenian Apostolic Church":MAILTO:office@stmarytoronto.ca
END:VEVENT
BEGIN:VEVENT
DTSTART;TZID=America/Toronto:20220925T083000
DTEND;TZID=America/Toronto:20220925T103000
DTSTAMP:20260421T133925
CREATED:20220921T140252Z
LAST-MODIFIED:20250117T225802Z
UID:5405-1664094600-1664101800@www.stmarytoronto.ca
SUMMARY:Գիշերային եւ առաւօտեան ժամերգութիւն
DESCRIPTION:Գիշերային եւ առաւօտեան ժամերգութիւն
URL:https://www.stmarytoronto.ca/event/%d5%a3%d5%ab%d5%b7%d5%a5%d6%80%d5%a1%d5%b5%d5%ab%d5%b6-%d5%a5%d6%82-%d5%a1%d5%bc%d5%a1%d6%82%d6%85%d5%bf%d5%a5%d5%a1%d5%b6-%d5%aa%d5%a1%d5%b4%d5%a5%d6%80%d5%a3%d5%b8%d6%82%d5%a9%d5%ab%d6%82%d5%b6night/
LOCATION:St. Mary Armenian Apostolic Church\, 45 Hallcrown Pl.\, Toronto\, Ontario\, M2J 4Y4\, Canada
ORGANIZER;CN="St. Mary Armenian Apostolic Church":MAILTO:office@stmarytoronto.ca
END:VEVENT
BEGIN:VEVENT
DTSTART;TZID=America/Toronto:20221002T103000
DTEND;TZID=America/Toronto:20221002T130000
DTSTAMP:20260421T133925
CREATED:20221004T021236Z
LAST-MODIFIED:20230512T144532Z
UID:5660-1664706600-1664715600@www.stmarytoronto.ca
SUMMARY:Ս. ՊԱՏԱՐԱԳ
DESCRIPTION:Ս. ՊԱՏԱՐԱԳ
URL:https://www.stmarytoronto.ca/event/%d5%bd-%d5%ba%d5%a1%d5%bf%d5%a1%d6%80%d5%a1%d5%a3divine-liturgy-2/
LOCATION:St. Mary Armenian Apostolic Church\, 45 Hallcrown Pl.\, Toronto\, Ontario\, M2J 4Y4\, Canada
ORGANIZER;CN="St. Mary Armenian Apostolic Church":MAILTO:office@stmarytoronto.ca
END:VEVENT
BEGIN:VEVENT
DTSTART;TZID=America/Toronto:20240213T100000
DTEND;TZID=America/Toronto:20240322T100000
DTSTAMP:20260421T133925
CREATED:20240208T232042Z
LAST-MODIFIED:20240208T232042Z
UID:6929-1707818400-1711101600@www.stmarytoronto.ca
SUMMARY:ՄԵԾ ՊԱՉՔԻ ԱՐԵՒԱՔԱԼ ԵՒ ՉԱԿՈՒՄ-GREAT LENTEN SUNRISE AND VESPER SERVICES
DESCRIPTION:
URL:https://www.stmarytoronto.ca/event/%d5%b4%d5%a5%d5%ae-%d5%ba%d5%a1%d5%b9%d6%84%d5%ab-%d5%a1%d6%80%d5%a5%d6%82%d5%a1%d6%84%d5%a1%d5%ac-%d5%a5%d6%82-%d5%b9%d5%a1%d5%af%d5%b8%d6%82%d5%b4-great-lenten-sunrise-and-vesper-services/
LOCATION:St. Mary Armenian Apostolic Church\, 45 Hallcrown Pl.\, Toronto\, Ontario\, M2J 4Y4\, Canada
ATTACH;FMTTYPE=image/jpeg:https://www.stmarytoronto.ca/wp-content/uploads/2024/02/425507193_786011790234745_2533640848396911620_n.jpg
ORGANIZER;CN="St. Mary Armenian Apostolic Church":MAILTO:office@stmarytoronto.ca
END:VEVENT
BEGIN:VEVENT
DTSTART;TZID=America/Toronto:20240213T190000
DTEND;TZID=America/Toronto:20240213T220000
DTSTAMP:20260421T133925
CREATED:20240130T020333Z
LAST-MODIFIED:20240130T020333Z
UID:6921-1707850800-1707861600@www.stmarytoronto.ca
SUMMARY:ՏՕՆ ՔԱՌԱՍՆՕՐԵԱՅ ԳԱԼՍՏԵԱՆՆ ՔՐԻՍՏՈՍԻ ՛Ի ՏԱՃԱՐՆ ՏԵԱՌ ՆԸՆԴԱՌԱՋ- PRESENTATION OF OUR LORD JESUS CHRIST
DESCRIPTION:
URL:https://www.stmarytoronto.ca/event/%d5%bf%d6%85%d5%b6-%d6%84%d5%a1%d5%bc%d5%a1%d5%bd%d5%b6%d6%85%d6%80%d5%a5%d5%a1%d5%b5-%d5%a3%d5%a1%d5%ac%d5%bd%d5%bf%d5%a5%d5%a1%d5%b6%d5%b6-%d6%84%d6%80%d5%ab%d5%bd%d5%bf%d5%b8%d5%bd%d5%ab-%d5%9b/
LOCATION:St. Mary Armenian Apostolic Church\, 45 Hallcrown Pl.\, Toronto\, Ontario\, M2J 4Y4\, Canada
ATTACH;FMTTYPE=image/jpeg:https://www.stmarytoronto.ca/wp-content/uploads/2024/01/154730474592629_780065754162682-0-250.jpg
ORGANIZER;CN="St. Mary Armenian Apostolic Church":MAILTO:office@stmarytoronto.ca
END:VEVENT
BEGIN:VEVENT
DTSTART;TZID=America/Toronto:20240214T193000
DTEND;TZID=America/Toronto:20240322T193000
DTSTAMP:20260421T133925
CREATED:20240208T232140Z
LAST-MODIFIED:20240208T233420Z
UID:6935-1707939000-1711135800@www.stmarytoronto.ca
SUMMARY:ՄԵԾ ՊԱՀՔԻ ԱՐԵՒԱՔԱԼ ԵՒ ՉԱԿՈՒՄ-GREAT LENTEN SUNRISE AND VESPER SERVICES
DESCRIPTION:
URL:https://www.stmarytoronto.ca/event/%d5%b4%d5%a5%d5%ae-%d5%ba%d5%a1%d5%b9%d6%84%d5%ab-%d5%a1%d6%80%d5%a5%d6%82%d5%a1%d6%84%d5%a1%d5%ac-%d5%a5%d6%82-%d5%b9%d5%a1%d5%af%d5%b8%d6%82%d5%b4-great-lenten-sunrise-and-vesper-services-2/
LOCATION:St. Mary Armenian Apostolic Church\, 45 Hallcrown Pl.\, Toronto\, Ontario\, M2J 4Y4\, Canada
ATTACH;FMTTYPE=image/jpeg:https://www.stmarytoronto.ca/wp-content/uploads/2024/02/425507193_786011790234745_2533640848396911620_n.jpg
ORGANIZER;CN="St. Mary Armenian Apostolic Church":MAILTO:office@stmarytoronto.ca
END:VEVENT
BEGIN:VEVENT
DTSTART;TZID=America/Toronto:20220924T170000
DTEND;TZID=America/Toronto:20220924T173000
DTSTAMP:20260421T133925
CREATED:20220921T140130Z
LAST-MODIFIED:20230715T150824Z
UID:5401-1664038800-1664040600@www.stmarytoronto.ca
SUMMARY:ԿԻՐԱԿՄՈՒՏՔ
DESCRIPTION:
URL:https://www.stmarytoronto.ca/event/%d5%af%d5%ab%d6%80%d5%a1%d5%af%d5%b4%d5%b8%d6%82%d5%bf%d6%84evening-service/
LOCATION:St. Mary Armenian Apostolic Church\, 45 Hallcrown Pl.\, Toronto\, Ontario\, M2J 4Y4\, Canada
ORGANIZER;CN="St. Mary Armenian Apostolic Church":MAILTO:office@stmarytoronto.ca
END:VEVENT
BEGIN:VEVENT
DTSTART;TZID=America/Toronto:20220925T083000
DTEND;TZID=America/Toronto:20220925T103000
DTSTAMP:20260421T133925
CREATED:20220921T140252Z
LAST-MODIFIED:20250117T225802Z
UID:5405-1664094600-1664101800@www.stmarytoronto.ca
SUMMARY:Գիշերային եւ առաւօտեան ժամերգութիւն
DESCRIPTION:Գիշերային եւ առաւօտեան ժամերգութիւն
URL:https://www.stmarytoronto.ca/event/%d5%a3%d5%ab%d5%b7%d5%a5%d6%80%d5%a1%d5%b5%d5%ab%d5%b6-%d5%a5%d6%82-%d5%a1%d5%bc%d5%a1%d6%82%d6%85%d5%bf%d5%a5%d5%a1%d5%b6-%d5%aa%d5%a1%d5%b4%d5%a5%d6%80%d5%a3%d5%b8%d6%82%d5%a9%d5%ab%d6%82%d5%b6night/
LOCATION:St. Mary Armenian Apostolic Church\, 45 Hallcrown Pl.\, Toronto\, Ontario\, M2J 4Y4\, Canada
ORGANIZER;CN="St. Mary Armenian Apostolic Church":MAILTO:office@stmarytoronto.ca
END:VEVENT
BEGIN:VEVENT
DTSTART;TZID=America/Toronto:20221002T103000
DTEND;TZID=America/Toronto:20221002T130000
DTSTAMP:20260421T133925
CREATED:20221004T021236Z
LAST-MODIFIED:20230512T144532Z
UID:5660-1664706600-1664715600@www.stmarytoronto.ca
SUMMARY:Ս. ՊԱՏԱՐԱԳ
DESCRIPTION:Ս. ՊԱՏԱՐԱԳ
URL:https://www.stmarytoronto.ca/event/%d5%bd-%d5%ba%d5%a1%d5%bf%d5%a1%d6%80%d5%a1%d5%a3divine-liturgy-2/
LOCATION:St. Mary Armenian Apostolic Church\, 45 Hallcrown Pl.\, Toronto\, Ontario\, M2J 4Y4\, Canada
ORGANIZER;CN="St. Mary Armenian Apostolic Church":MAILTO:office@stmarytoronto.ca
END:VEVENT
BEGIN:VEVENT
DTSTART;TZID=America/Toronto:20220924T170000
DTEND;TZID=America/Toronto:20220924T173000
DTSTAMP:20260421T133925
CREATED:20220921T140130Z
LAST-MODIFIED:20230715T150824Z
UID:5401-1664038800-1664040600@www.stmarytoronto.ca
SUMMARY:ԿԻՐԱԿՄՈՒՏՔ
DESCRIPTION:
URL:https://www.stmarytoronto.ca/event/%d5%af%d5%ab%d6%80%d5%a1%d5%af%d5%b4%d5%b8%d6%82%d5%bf%d6%84evening-service/
LOCATION:St. Mary Armenian Apostolic Church\, 45 Hallcrown Pl.\, Toronto\, Ontario\, M2J 4Y4\, Canada
ORGANIZER;CN="St. Mary Armenian Apostolic Church":MAILTO:office@stmarytoronto.ca
END:VEVENT
BEGIN:VEVENT
DTSTART;TZID=America/Toronto:20220925T083000
DTEND;TZID=America/Toronto:20220925T103000
DTSTAMP:20260421T133925
CREATED:20220921T140252Z
LAST-MODIFIED:20250117T225802Z
UID:5405-1664094600-1664101800@www.stmarytoronto.ca
SUMMARY:Գիշերային եւ առաւօտեան ժամերգութիւն
DESCRIPTION:Գիշերային եւ առաւօտեան ժամերգութիւն
URL:https://www.stmarytoronto.ca/event/%d5%a3%d5%ab%d5%b7%d5%a5%d6%80%d5%a1%d5%b5%d5%ab%d5%b6-%d5%a5%d6%82-%d5%a1%d5%bc%d5%a1%d6%82%d6%85%d5%bf%d5%a5%d5%a1%d5%b6-%d5%aa%d5%a1%d5%b4%d5%a5%d6%80%d5%a3%d5%b8%d6%82%d5%a9%d5%ab%d6%82%d5%b6night/
LOCATION:St. Mary Armenian Apostolic Church\, 45 Hallcrown Pl.\, Toronto\, Ontario\, M2J 4Y4\, Canada
ORGANIZER;CN="St. Mary Armenian Apostolic Church":MAILTO:office@stmarytoronto.ca
END:VEVENT
BEGIN:VEVENT
DTSTART;TZID=America/Toronto:20221002T103000
DTEND;TZID=America/Toronto:20221002T130000
DTSTAMP:20260421T133925
CREATED:20221004T021236Z
LAST-MODIFIED:20230512T144532Z
UID:5660-1664706600-1664715600@www.stmarytoronto.ca
SUMMARY:Ս. ՊԱՏԱՐԱԳ
DESCRIPTION:Ս. ՊԱՏԱՐԱԳ
URL:https://www.stmarytoronto.ca/event/%d5%bd-%d5%ba%d5%a1%d5%bf%d5%a1%d6%80%d5%a1%d5%a3divine-liturgy-2/
LOCATION:St. Mary Armenian Apostolic Church\, 45 Hallcrown Pl.\, Toronto\, Ontario\, M2J 4Y4\, Canada
ORGANIZER;CN="St. Mary Armenian Apostolic Church":MAILTO:office@stmarytoronto.ca
END:VEVENT
BEGIN:VEVENT
DTSTART;TZID=America/Toronto:20240302T163000
DTEND;TZID=America/Toronto:20240302T173000
DTSTAMP:20260421T133925
CREATED:20240225T215021Z
LAST-MODIFIED:20240225T215021Z
UID:6974-1709397000-1709400600@www.stmarytoronto.ca
SUMMARY:ԱՆԴԱՄԱԿԱՆ ԸՆԴՀԱՆՈՒՐ ԺՈՂՈՎ -Annual General Meeting
DESCRIPTION:
URL:https://www.stmarytoronto.ca/event/%d5%a1%d5%b6%d5%a4%d5%a1%d5%b4%d5%a1%d5%af%d5%a1%d5%b6-%d5%a8%d5%b6%d5%a4%d5%b0%d5%a1%d5%b6%d5%b8%d6%82%d6%80-%d5%aa%d5%b8%d5%b2%d5%b8%d5%be-annual-general-meeting/
LOCATION:St. Mary Armenian Apostolic Church\, 45 Hallcrown Pl.\, Toronto\, Ontario\, M2J 4Y4\, Canada
ATTACH;FMTTYPE=image/jpeg:https://www.stmarytoronto.ca/wp-content/uploads/2024/02/unnamed-4.jpg
ORGANIZER;CN="St. Mary Armenian Apostolic Church":MAILTO:office@stmarytoronto.ca
END:VEVENT
BEGIN:VEVENT
DTSTART;TZID=America/Toronto:20220924T170000
DTEND;TZID=America/Toronto:20220924T173000
DTSTAMP:20260421T133925
CREATED:20220921T140130Z
LAST-MODIFIED:20230715T150824Z
UID:5401-1664038800-1664040600@www.stmarytoronto.ca
SUMMARY:ԿԻՐԱԿՄՈՒՏՔ
DESCRIPTION:
URL:https://www.stmarytoronto.ca/event/%d5%af%d5%ab%d6%80%d5%a1%d5%af%d5%b4%d5%b8%d6%82%d5%bf%d6%84evening-service/
LOCATION:St. Mary Armenian Apostolic Church\, 45 Hallcrown Pl.\, Toronto\, Ontario\, M2J 4Y4\, Canada
ORGANIZER;CN="St. Mary Armenian Apostolic Church":MAILTO:office@stmarytoronto.ca
END:VEVENT
BEGIN:VEVENT
DTSTART;TZID=America/Toronto:20220925T083000
DTEND;TZID=America/Toronto:20220925T103000
DTSTAMP:20260421T133925
CREATED:20220921T140252Z
LAST-MODIFIED:20250117T225802Z
UID:5405-1664094600-1664101800@www.stmarytoronto.ca
SUMMARY:Գիշերային եւ առաւօտեան ժամերգութիւն
DESCRIPTION:Գիշերային եւ առաւօտեան ժամերգութիւն
URL:https://www.stmarytoronto.ca/event/%d5%a3%d5%ab%d5%b7%d5%a5%d6%80%d5%a1%d5%b5%d5%ab%d5%b6-%d5%a5%d6%82-%d5%a1%d5%bc%d5%a1%d6%82%d6%85%d5%bf%d5%a5%d5%a1%d5%b6-%d5%aa%d5%a1%d5%b4%d5%a5%d6%80%d5%a3%d5%b8%d6%82%d5%a9%d5%ab%d6%82%d5%b6night/
LOCATION:St. Mary Armenian Apostolic Church\, 45 Hallcrown Pl.\, Toronto\, Ontario\, M2J 4Y4\, Canada
ORGANIZER;CN="St. Mary Armenian Apostolic Church":MAILTO:office@stmarytoronto.ca
END:VEVENT
END:VCALENDAR