BEGIN:VCALENDAR
VERSION:2.0
PRODID:-//St. Mary Armenian Apostolic Church - ECPv6.15.17//NONSGML v1.0//EN
CALSCALE:GREGORIAN
METHOD:PUBLISH
X-ORIGINAL-URL:https://www.stmarytoronto.ca
X-WR-CALDESC:Events for St. Mary Armenian Apostolic Church
REFRESH-INTERVAL;VALUE=DURATION:PT1H
X-Robots-Tag:noindex
X-PUBLISHED-TTL:PT1H
BEGIN:VTIMEZONE
TZID:America/Toronto
BEGIN:DAYLIGHT
TZOFFSETFROM:-0500
TZOFFSETTO:-0400
TZNAME:EDT
DTSTART:20210314T070000
END:DAYLIGHT
BEGIN:STANDARD
TZOFFSETFROM:-0400
TZOFFSETTO:-0500
TZNAME:EST
DTSTART:20211107T060000
END:STANDARD
BEGIN:DAYLIGHT
TZOFFSETFROM:-0500
TZOFFSETTO:-0400
TZNAME:EDT
DTSTART:20220313T070000
END:DAYLIGHT
BEGIN:STANDARD
TZOFFSETFROM:-0400
TZOFFSETTO:-0500
TZNAME:EST
DTSTART:20221106T060000
END:STANDARD
BEGIN:DAYLIGHT
TZOFFSETFROM:-0500
TZOFFSETTO:-0400
TZNAME:EDT
DTSTART:20230312T070000
END:DAYLIGHT
BEGIN:STANDARD
TZOFFSETFROM:-0400
TZOFFSETTO:-0500
TZNAME:EST
DTSTART:20231105T060000
END:STANDARD
BEGIN:DAYLIGHT
TZOFFSETFROM:-0500
TZOFFSETTO:-0400
TZNAME:EDT
DTSTART:20240310T070000
END:DAYLIGHT
BEGIN:STANDARD
TZOFFSETFROM:-0400
TZOFFSETTO:-0500
TZNAME:EST
DTSTART:20241103T060000
END:STANDARD
END:VTIMEZONE
BEGIN:VEVENT
DTSTART;TZID=America/Toronto:20230101T000000
DTEND;TZID=America/Toronto:20230101T010000
DTSTAMP:20260420T072904
CREATED:20221217T012800Z
LAST-MODIFIED:20221217T012800Z
UID:5937-1672531200-1672534800@www.stmarytoronto.ca
SUMMARY:Նուռի Օրհնութիւն
DESCRIPTION:ՆՈՐ ՏԱՐՈՒԱՆ ԹԱՌԱԲԱՆԱՆՔ
URL:https://www.stmarytoronto.ca/event/%d5%b6%d5%b8%d6%82%d5%bc%d5%ab-%d6%85%d6%80%d5%b0%d5%b6%d5%b8%d6%82%d5%a9%d5%ab%d6%82%d5%b6/
LOCATION:St. Mary Armenian Apostolic Church\, 45 Hallcrown Pl.\, Toronto\, Ontario\, M2J 4Y4\, Canada
ATTACH;FMTTYPE=image/jpeg:https://www.stmarytoronto.ca/wp-content/uploads/2022/12/WhatsApp-Image-2022-12-13-at-11.26.13-PM-1.jpeg
ORGANIZER;CN="St. Mary Armenian Apostolic Church":MAILTO:office@stmarytoronto.ca
END:VEVENT
BEGIN:VEVENT
DTSTART;TZID=America/Toronto:20230101T010000
DTEND;TZID=America/Toronto:20230101T013000
DTSTAMP:20260420T072904
CREATED:20221217T012922Z
LAST-MODIFIED:20221217T012922Z
UID:5939-1672534800-1672536600@www.stmarytoronto.ca
SUMMARY:Առաջին Պատգամ
DESCRIPTION:ՆՈՐ ՏԱՐՈՒԱՆ ԹԱՌԱԲԱՆԱՆՔ
URL:https://www.stmarytoronto.ca/event/%d5%a1%d5%bc%d5%a1%d5%bb%d5%ab%d5%b6-%d5%ba%d5%a1%d5%bf%d5%a3%d5%a1%d5%b4/
LOCATION:St. Mary Armenian Apostolic Church\, 45 Hallcrown Pl.\, Toronto\, Ontario\, M2J 4Y4\, Canada
ATTACH;FMTTYPE=image/jpeg:https://www.stmarytoronto.ca/wp-content/uploads/2022/12/WhatsApp-Image-2022-12-13-at-11.26.13-PM-1.jpeg
ORGANIZER;CN="St. Mary Armenian Apostolic Church":MAILTO:office@stmarytoronto.ca
END:VEVENT
BEGIN:VEVENT
DTSTART;TZID=America/Toronto:20230101T093000
DTEND;TZID=America/Toronto:20230101T103000
DTSTAMP:20260420T072904
CREATED:20221217T013408Z
LAST-MODIFIED:20221217T013408Z
UID:5941-1672565400-1672569000@www.stmarytoronto.ca
SUMMARY:ԳԻՇԵՐԱՅԻՆ ԵՒ ԱՌԱՒՕՏԵԱՆ ԺԱՄԵՐԳՈՒԹԻՒՆNIGHT AND MORNING SERVICE
DESCRIPTION:
URL:https://www.stmarytoronto.ca/event/%d5%a3%d5%ab%d5%b7%d5%a5%d6%80%d5%a1%d5%b5%d5%ab%d5%b6-%d5%a5%d6%82-%d5%a1%d5%bc%d5%a1%d6%82%d6%85%d5%bf%d5%a5%d5%a1%d5%b6-%d5%aa%d5%a1%d5%b4%d5%a5%d6%80%d5%a3%d5%b8%d6%82%d5%a9%d5%ab%d6%82%d5%b6nig-2/
LOCATION:St. Mary Armenian Apostolic Church\, 45 Hallcrown Pl.\, Toronto\, Ontario\, M2J 4Y4\, Canada
ORGANIZER;CN="St. Mary Armenian Apostolic Church":MAILTO:office@stmarytoronto.ca
END:VEVENT
BEGIN:VEVENT
DTSTART;TZID=America/Toronto:20221002T103000
DTEND;TZID=America/Toronto:20221002T130000
DTSTAMP:20260420T072904
CREATED:20221004T021236Z
LAST-MODIFIED:20230512T144532Z
UID:5660-1664706600-1664715600@www.stmarytoronto.ca
SUMMARY:Ս. ՊԱՏԱՐԱԳ
DESCRIPTION:Ս. ՊԱՏԱՐԱԳ
URL:https://www.stmarytoronto.ca/event/%d5%bd-%d5%ba%d5%a1%d5%bf%d5%a1%d6%80%d5%a1%d5%a3divine-liturgy-2/
LOCATION:St. Mary Armenian Apostolic Church\, 45 Hallcrown Pl.\, Toronto\, Ontario\, M2J 4Y4\, Canada
ORGANIZER;CN="St. Mary Armenian Apostolic Church":MAILTO:office@stmarytoronto.ca
END:VEVENT
BEGIN:VEVENT
DTSTART;TZID=America/Toronto:20230105T090000
DTEND;TZID=America/Toronto:20230105T093000
DTSTAMP:20260420T072904
CREATED:20221217T013850Z
LAST-MODIFIED:20221217T013850Z
UID:5949-1672909200-1672911000@www.stmarytoronto.ca
SUMMARY:Առաւօտեան ժամերգութիւն
DESCRIPTION:
URL:https://www.stmarytoronto.ca/event/%d5%a1%d5%bc%d5%a1%d6%82%d6%85%d5%bf%d5%a5%d5%a1%d5%b6-%d5%aa%d5%a1%d5%b4%d5%a5%d6%80%d5%a3%d5%b8%d6%82%d5%a9%d5%ab%d6%82%d5%b6/
LOCATION:St. Mary Armenian Apostolic Church\, 45 Hallcrown Pl.\, Toronto\, Ontario\, M2J 4Y4\, Canada
ATTACH;FMTTYPE=image/jpeg:https://www.stmarytoronto.ca/wp-content/uploads/2022/12/WhatsApp-Image-2022-12-13-at-11.26.13-PM-1.jpeg
ORGANIZER;CN="St. Mary Armenian Apostolic Church":MAILTO:office@stmarytoronto.ca
END:VEVENT
BEGIN:VEVENT
DTSTART;TZID=America/Toronto:20230105T163000
DTEND;TZID=America/Toronto:20230105T170000
DTSTAMP:20260420T072904
CREATED:20221217T013949Z
LAST-MODIFIED:20221217T013949Z
UID:5951-1672936200-1672938000@www.stmarytoronto.ca
SUMMARY:Ս. Գիրքերու Ընթերցուածներ
DESCRIPTION:
URL:https://www.stmarytoronto.ca/event/%d5%bd-%d5%a3%d5%ab%d6%80%d6%84%d5%a5%d6%80%d5%b8%d6%82-%d5%a8%d5%b6%d5%a9%d5%a5%d6%80%d6%81%d5%b8%d6%82%d5%a1%d5%ae%d5%b6%d5%a5%d6%80/
LOCATION:St. Mary Armenian Apostolic Church\, 45 Hallcrown Pl.\, Toronto\, Ontario\, M2J 4Y4\, Canada
ATTACH;FMTTYPE=image/jpeg:https://www.stmarytoronto.ca/wp-content/uploads/2022/12/WhatsApp-Image-2022-12-13-at-11.26.13-PM-1.jpeg
ORGANIZER;CN="St. Mary Armenian Apostolic Church":MAILTO:office@stmarytoronto.ca
END:VEVENT
BEGIN:VEVENT
DTSTART;TZID=America/Toronto:20230105T173000
DTEND;TZID=America/Toronto:20230105T193000
DTSTAMP:20260420T072904
CREATED:20221217T014032Z
LAST-MODIFIED:20221217T014032Z
UID:5953-1672939800-1672947000@www.stmarytoronto.ca
SUMMARY:Ս. եւ Անմահ Պատարագ
DESCRIPTION:
URL:https://www.stmarytoronto.ca/event/%d5%bd-%d5%a5%d6%82-%d5%a1%d5%b6%d5%b4%d5%a1%d5%b0-%d5%ba%d5%a1%d5%bf%d5%a1%d6%80%d5%a1%d5%a3-2/
LOCATION:St. Mary Armenian Apostolic Church\, 45 Hallcrown Pl.\, Toronto\, Ontario\, M2J 4Y4\, Canada
ATTACH;FMTTYPE=image/jpeg:https://www.stmarytoronto.ca/wp-content/uploads/2022/12/WhatsApp-Image-2022-12-13-at-11.26.13-PM-1.jpeg
ORGANIZER;CN="St. Mary Armenian Apostolic Church":MAILTO:office@stmarytoronto.ca
END:VEVENT
BEGIN:VEVENT
DTSTART;TZID=America/Toronto:20230106T083000
DTEND;TZID=America/Toronto:20230106T103000
DTSTAMP:20260420T072904
CREATED:20221217T014129Z
LAST-MODIFIED:20221217T014129Z
UID:5955-1672993800-1673001000@www.stmarytoronto.ca
SUMMARY:Առաւօտեան Ժամերգութիւն
DESCRIPTION:
URL:https://www.stmarytoronto.ca/event/%d5%a1%d5%bc%d5%a1%d6%82%d6%85%d5%bf%d5%a5%d5%a1%d5%b6-%d5%aa%d5%a1%d5%b4%d5%a5%d6%80%d5%a3%d5%b8%d6%82%d5%a9%d5%ab%d6%82%d5%b6-2/
LOCATION:St. Mary Armenian Apostolic Church\, 45 Hallcrown Pl.\, Toronto\, Ontario\, M2J 4Y4\, Canada
ATTACH;FMTTYPE=image/jpeg:https://www.stmarytoronto.ca/wp-content/uploads/2022/12/WhatsApp-Image-2022-12-13-at-11.26.13-PM-1.jpeg
ORGANIZER;CN="St. Mary Armenian Apostolic Church":MAILTO:office@stmarytoronto.ca
END:VEVENT
BEGIN:VEVENT
DTSTART;TZID=America/Toronto:20230106T103000
DTEND;TZID=America/Toronto:20230106T130000
DTSTAMP:20260420T072904
CREATED:20221217T014211Z
LAST-MODIFIED:20221217T014211Z
UID:5957-1673001000-1673010000@www.stmarytoronto.ca
SUMMARY:Ս. եւ Անմահ Պատարագ
DESCRIPTION:
URL:https://www.stmarytoronto.ca/event/%d5%bd-%d5%a5%d6%82-%d5%a1%d5%b6%d5%b4%d5%a1%d5%b0-%d5%ba%d5%a1%d5%bf%d5%a1%d6%80%d5%a1%d5%a3-3/
LOCATION:St. Mary Armenian Apostolic Church\, 45 Hallcrown Pl.\, Toronto\, Ontario\, M2J 4Y4\, Canada
ATTACH;FMTTYPE=image/jpeg:https://www.stmarytoronto.ca/wp-content/uploads/2022/12/WhatsApp-Image-2022-12-13-at-11.26.13-PM-1.jpeg
ORGANIZER;CN="St. Mary Armenian Apostolic Church":MAILTO:office@stmarytoronto.ca
END:VEVENT
BEGIN:VEVENT
DTSTART;TZID=America/Toronto:20230106T190000
DTEND;TZID=America/Toronto:20230106T190000
DTSTAMP:20260420T072904
CREATED:20221217T012538Z
LAST-MODIFIED:20221217T012538Z
UID:5935-1673031600-1673031600@www.stmarytoronto.ca
SUMMARY:Սուրբ Ծննդեան Ճաշկերոյթ
DESCRIPTION:
URL:https://www.stmarytoronto.ca/event/%d5%bd%d5%b8%d6%82%d6%80%d5%a2-%d5%ae%d5%b6%d5%b6%d5%a4%d5%a5%d5%a1%d5%b6-%d5%b3%d5%a1%d5%b7%d5%af%d5%a5%d6%80%d5%b8%d5%b5%d5%a9/
LOCATION:St. Mary Armenian Apostolic Church\, 45 Hallcrown Pl.\, Toronto\, Ontario\, M2J 4Y4\, Canada
ATTACH;FMTTYPE=image/jpeg:https://www.stmarytoronto.ca/wp-content/uploads/2022/12/WhatsApp-Image-2022-12-15-at-5.13.18-PM.jpeg
ORGANIZER;CN="St. Mary Armenian Apostolic Church":MAILTO:office@stmarytoronto.ca
END:VEVENT
BEGIN:VEVENT
DTSTART;TZID=America/Toronto:20220924T170000
DTEND;TZID=America/Toronto:20220924T173000
DTSTAMP:20260420T072904
CREATED:20220921T140130Z
LAST-MODIFIED:20230715T150824Z
UID:5401-1664038800-1664040600@www.stmarytoronto.ca
SUMMARY:ԿԻՐԱԿՄՈՒՏՔ
DESCRIPTION:
URL:https://www.stmarytoronto.ca/event/%d5%af%d5%ab%d6%80%d5%a1%d5%af%d5%b4%d5%b8%d6%82%d5%bf%d6%84evening-service/
LOCATION:St. Mary Armenian Apostolic Church\, 45 Hallcrown Pl.\, Toronto\, Ontario\, M2J 4Y4\, Canada
ORGANIZER;CN="St. Mary Armenian Apostolic Church":MAILTO:office@stmarytoronto.ca
END:VEVENT
BEGIN:VEVENT
DTSTART;TZID=America/Toronto:20220925T083000
DTEND;TZID=America/Toronto:20220925T103000
DTSTAMP:20260420T072904
CREATED:20220921T140252Z
LAST-MODIFIED:20250117T225802Z
UID:5405-1664094600-1664101800@www.stmarytoronto.ca
SUMMARY:Գիշերային եւ առաւօտեան ժամերգութիւն
DESCRIPTION:Գիշերային եւ առաւօտեան ժամերգութիւն
URL:https://www.stmarytoronto.ca/event/%d5%a3%d5%ab%d5%b7%d5%a5%d6%80%d5%a1%d5%b5%d5%ab%d5%b6-%d5%a5%d6%82-%d5%a1%d5%bc%d5%a1%d6%82%d6%85%d5%bf%d5%a5%d5%a1%d5%b6-%d5%aa%d5%a1%d5%b4%d5%a5%d6%80%d5%a3%d5%b8%d6%82%d5%a9%d5%ab%d6%82%d5%b6night/
LOCATION:St. Mary Armenian Apostolic Church\, 45 Hallcrown Pl.\, Toronto\, Ontario\, M2J 4Y4\, Canada
ORGANIZER;CN="St. Mary Armenian Apostolic Church":MAILTO:office@stmarytoronto.ca
END:VEVENT
BEGIN:VEVENT
DTSTART;TZID=America/Toronto:20221002T103000
DTEND;TZID=America/Toronto:20221002T130000
DTSTAMP:20260420T072904
CREATED:20221004T021236Z
LAST-MODIFIED:20230512T144532Z
UID:5660-1664706600-1664715600@www.stmarytoronto.ca
SUMMARY:Ս. ՊԱՏԱՐԱԳ
DESCRIPTION:Ս. ՊԱՏԱՐԱԳ
URL:https://www.stmarytoronto.ca/event/%d5%bd-%d5%ba%d5%a1%d5%bf%d5%a1%d6%80%d5%a1%d5%a3divine-liturgy-2/
LOCATION:St. Mary Armenian Apostolic Church\, 45 Hallcrown Pl.\, Toronto\, Ontario\, M2J 4Y4\, Canada
ORGANIZER;CN="St. Mary Armenian Apostolic Church":MAILTO:office@stmarytoronto.ca
END:VEVENT
BEGIN:VEVENT
DTSTART;TZID=America/Toronto:20220924T170000
DTEND;TZID=America/Toronto:20220924T173000
DTSTAMP:20260420T072904
CREATED:20220921T140130Z
LAST-MODIFIED:20230715T150824Z
UID:5401-1664038800-1664040600@www.stmarytoronto.ca
SUMMARY:ԿԻՐԱԿՄՈՒՏՔ
DESCRIPTION:
URL:https://www.stmarytoronto.ca/event/%d5%af%d5%ab%d6%80%d5%a1%d5%af%d5%b4%d5%b8%d6%82%d5%bf%d6%84evening-service/
LOCATION:St. Mary Armenian Apostolic Church\, 45 Hallcrown Pl.\, Toronto\, Ontario\, M2J 4Y4\, Canada
ORGANIZER;CN="St. Mary Armenian Apostolic Church":MAILTO:office@stmarytoronto.ca
END:VEVENT
BEGIN:VEVENT
DTSTART;TZID=America/Toronto:20220925T083000
DTEND;TZID=America/Toronto:20220925T103000
DTSTAMP:20260420T072904
CREATED:20220921T140252Z
LAST-MODIFIED:20250117T225802Z
UID:5405-1664094600-1664101800@www.stmarytoronto.ca
SUMMARY:Գիշերային եւ առաւօտեան ժամերգութիւն
DESCRIPTION:Գիշերային եւ առաւօտեան ժամերգութիւն
URL:https://www.stmarytoronto.ca/event/%d5%a3%d5%ab%d5%b7%d5%a5%d6%80%d5%a1%d5%b5%d5%ab%d5%b6-%d5%a5%d6%82-%d5%a1%d5%bc%d5%a1%d6%82%d6%85%d5%bf%d5%a5%d5%a1%d5%b6-%d5%aa%d5%a1%d5%b4%d5%a5%d6%80%d5%a3%d5%b8%d6%82%d5%a9%d5%ab%d6%82%d5%b6night/
LOCATION:St. Mary Armenian Apostolic Church\, 45 Hallcrown Pl.\, Toronto\, Ontario\, M2J 4Y4\, Canada
ORGANIZER;CN="St. Mary Armenian Apostolic Church":MAILTO:office@stmarytoronto.ca
END:VEVENT
BEGIN:VEVENT
DTSTART;TZID=America/Toronto:20221002T103000
DTEND;TZID=America/Toronto:20221002T130000
DTSTAMP:20260420T072904
CREATED:20221004T021236Z
LAST-MODIFIED:20230512T144532Z
UID:5660-1664706600-1664715600@www.stmarytoronto.ca
SUMMARY:Ս. ՊԱՏԱՐԱԳ
DESCRIPTION:Ս. ՊԱՏԱՐԱԳ
URL:https://www.stmarytoronto.ca/event/%d5%bd-%d5%ba%d5%a1%d5%bf%d5%a1%d6%80%d5%a1%d5%a3divine-liturgy-2/
LOCATION:St. Mary Armenian Apostolic Church\, 45 Hallcrown Pl.\, Toronto\, Ontario\, M2J 4Y4\, Canada
ORGANIZER;CN="St. Mary Armenian Apostolic Church":MAILTO:office@stmarytoronto.ca
END:VEVENT
BEGIN:VEVENT
DTSTART;TZID=America/Toronto:20220924T170000
DTEND;TZID=America/Toronto:20220924T173000
DTSTAMP:20260420T072904
CREATED:20220921T140130Z
LAST-MODIFIED:20230715T150824Z
UID:5401-1664038800-1664040600@www.stmarytoronto.ca
SUMMARY:ԿԻՐԱԿՄՈՒՏՔ
DESCRIPTION:
URL:https://www.stmarytoronto.ca/event/%d5%af%d5%ab%d6%80%d5%a1%d5%af%d5%b4%d5%b8%d6%82%d5%bf%d6%84evening-service/
LOCATION:St. Mary Armenian Apostolic Church\, 45 Hallcrown Pl.\, Toronto\, Ontario\, M2J 4Y4\, Canada
ORGANIZER;CN="St. Mary Armenian Apostolic Church":MAILTO:office@stmarytoronto.ca
END:VEVENT
BEGIN:VEVENT
DTSTART;TZID=America/Toronto:20220925T083000
DTEND;TZID=America/Toronto:20220925T103000
DTSTAMP:20260420T072904
CREATED:20220921T140252Z
LAST-MODIFIED:20250117T225802Z
UID:5405-1664094600-1664101800@www.stmarytoronto.ca
SUMMARY:Գիշերային եւ առաւօտեան ժամերգութիւն
DESCRIPTION:Գիշերային եւ առաւօտեան ժամերգութիւն
URL:https://www.stmarytoronto.ca/event/%d5%a3%d5%ab%d5%b7%d5%a5%d6%80%d5%a1%d5%b5%d5%ab%d5%b6-%d5%a5%d6%82-%d5%a1%d5%bc%d5%a1%d6%82%d6%85%d5%bf%d5%a5%d5%a1%d5%b6-%d5%aa%d5%a1%d5%b4%d5%a5%d6%80%d5%a3%d5%b8%d6%82%d5%a9%d5%ab%d6%82%d5%b6night/
LOCATION:St. Mary Armenian Apostolic Church\, 45 Hallcrown Pl.\, Toronto\, Ontario\, M2J 4Y4\, Canada
ORGANIZER;CN="St. Mary Armenian Apostolic Church":MAILTO:office@stmarytoronto.ca
END:VEVENT
BEGIN:VEVENT
DTSTART;TZID=America/Toronto:20221002T103000
DTEND;TZID=America/Toronto:20221002T130000
DTSTAMP:20260420T072904
CREATED:20221004T021236Z
LAST-MODIFIED:20230512T144532Z
UID:5660-1664706600-1664715600@www.stmarytoronto.ca
SUMMARY:Ս. ՊԱՏԱՐԱԳ
DESCRIPTION:Ս. ՊԱՏԱՐԱԳ
URL:https://www.stmarytoronto.ca/event/%d5%bd-%d5%ba%d5%a1%d5%bf%d5%a1%d6%80%d5%a1%d5%a3divine-liturgy-2/
LOCATION:St. Mary Armenian Apostolic Church\, 45 Hallcrown Pl.\, Toronto\, Ontario\, M2J 4Y4\, Canada
ORGANIZER;CN="St. Mary Armenian Apostolic Church":MAILTO:office@stmarytoronto.ca
END:VEVENT
BEGIN:VEVENT
DTSTART;TZID=America/Toronto:20220924T170000
DTEND;TZID=America/Toronto:20220924T173000
DTSTAMP:20260420T072904
CREATED:20220921T140130Z
LAST-MODIFIED:20230715T150824Z
UID:5401-1664038800-1664040600@www.stmarytoronto.ca
SUMMARY:ԿԻՐԱԿՄՈՒՏՔ
DESCRIPTION:
URL:https://www.stmarytoronto.ca/event/%d5%af%d5%ab%d6%80%d5%a1%d5%af%d5%b4%d5%b8%d6%82%d5%bf%d6%84evening-service/
LOCATION:St. Mary Armenian Apostolic Church\, 45 Hallcrown Pl.\, Toronto\, Ontario\, M2J 4Y4\, Canada
ORGANIZER;CN="St. Mary Armenian Apostolic Church":MAILTO:office@stmarytoronto.ca
END:VEVENT
BEGIN:VEVENT
DTSTART;TZID=America/Toronto:20220925T083000
DTEND;TZID=America/Toronto:20220925T103000
DTSTAMP:20260420T072904
CREATED:20220921T140252Z
LAST-MODIFIED:20250117T225802Z
UID:5405-1664094600-1664101800@www.stmarytoronto.ca
SUMMARY:Գիշերային եւ առաւօտեան ժամերգութիւն
DESCRIPTION:Գիշերային եւ առաւօտեան ժամերգութիւն
URL:https://www.stmarytoronto.ca/event/%d5%a3%d5%ab%d5%b7%d5%a5%d6%80%d5%a1%d5%b5%d5%ab%d5%b6-%d5%a5%d6%82-%d5%a1%d5%bc%d5%a1%d6%82%d6%85%d5%bf%d5%a5%d5%a1%d5%b6-%d5%aa%d5%a1%d5%b4%d5%a5%d6%80%d5%a3%d5%b8%d6%82%d5%a9%d5%ab%d6%82%d5%b6night/
LOCATION:St. Mary Armenian Apostolic Church\, 45 Hallcrown Pl.\, Toronto\, Ontario\, M2J 4Y4\, Canada
ORGANIZER;CN="St. Mary Armenian Apostolic Church":MAILTO:office@stmarytoronto.ca
END:VEVENT
BEGIN:VEVENT
DTSTART;TZID=America/Toronto:20221002T103000
DTEND;TZID=America/Toronto:20221002T130000
DTSTAMP:20260420T072904
CREATED:20221004T021236Z
LAST-MODIFIED:20230512T144532Z
UID:5660-1664706600-1664715600@www.stmarytoronto.ca
SUMMARY:Ս. ՊԱՏԱՐԱԳ
DESCRIPTION:Ս. ՊԱՏԱՐԱԳ
URL:https://www.stmarytoronto.ca/event/%d5%bd-%d5%ba%d5%a1%d5%bf%d5%a1%d6%80%d5%a1%d5%a3divine-liturgy-2/
LOCATION:St. Mary Armenian Apostolic Church\, 45 Hallcrown Pl.\, Toronto\, Ontario\, M2J 4Y4\, Canada
ORGANIZER;CN="St. Mary Armenian Apostolic Church":MAILTO:office@stmarytoronto.ca
END:VEVENT
BEGIN:VEVENT
DTSTART;TZID=America/Toronto:20220924T170000
DTEND;TZID=America/Toronto:20220924T173000
DTSTAMP:20260420T072904
CREATED:20220921T140130Z
LAST-MODIFIED:20230715T150824Z
UID:5401-1664038800-1664040600@www.stmarytoronto.ca
SUMMARY:ԿԻՐԱԿՄՈՒՏՔ
DESCRIPTION:
URL:https://www.stmarytoronto.ca/event/%d5%af%d5%ab%d6%80%d5%a1%d5%af%d5%b4%d5%b8%d6%82%d5%bf%d6%84evening-service/
LOCATION:St. Mary Armenian Apostolic Church\, 45 Hallcrown Pl.\, Toronto\, Ontario\, M2J 4Y4\, Canada
ORGANIZER;CN="St. Mary Armenian Apostolic Church":MAILTO:office@stmarytoronto.ca
END:VEVENT
BEGIN:VEVENT
DTSTART;TZID=America/Toronto:20220925T083000
DTEND;TZID=America/Toronto:20220925T103000
DTSTAMP:20260420T072904
CREATED:20220921T140252Z
LAST-MODIFIED:20250117T225802Z
UID:5405-1664094600-1664101800@www.stmarytoronto.ca
SUMMARY:Գիշերային եւ առաւօտեան ժամերգութիւն
DESCRIPTION:Գիշերային եւ առաւօտեան ժամերգութիւն
URL:https://www.stmarytoronto.ca/event/%d5%a3%d5%ab%d5%b7%d5%a5%d6%80%d5%a1%d5%b5%d5%ab%d5%b6-%d5%a5%d6%82-%d5%a1%d5%bc%d5%a1%d6%82%d6%85%d5%bf%d5%a5%d5%a1%d5%b6-%d5%aa%d5%a1%d5%b4%d5%a5%d6%80%d5%a3%d5%b8%d6%82%d5%a9%d5%ab%d6%82%d5%b6night/
LOCATION:St. Mary Armenian Apostolic Church\, 45 Hallcrown Pl.\, Toronto\, Ontario\, M2J 4Y4\, Canada
ORGANIZER;CN="St. Mary Armenian Apostolic Church":MAILTO:office@stmarytoronto.ca
END:VEVENT
BEGIN:VEVENT
DTSTART;TZID=America/Toronto:20221002T103000
DTEND;TZID=America/Toronto:20221002T130000
DTSTAMP:20260420T072904
CREATED:20221004T021236Z
LAST-MODIFIED:20230512T144532Z
UID:5660-1664706600-1664715600@www.stmarytoronto.ca
SUMMARY:Ս. ՊԱՏԱՐԱԳ
DESCRIPTION:Ս. ՊԱՏԱՐԱԳ
URL:https://www.stmarytoronto.ca/event/%d5%bd-%d5%ba%d5%a1%d5%bf%d5%a1%d6%80%d5%a1%d5%a3divine-liturgy-2/
LOCATION:St. Mary Armenian Apostolic Church\, 45 Hallcrown Pl.\, Toronto\, Ontario\, M2J 4Y4\, Canada
ORGANIZER;CN="St. Mary Armenian Apostolic Church":MAILTO:office@stmarytoronto.ca
END:VEVENT
BEGIN:VEVENT
DTSTART;TZID=America/Toronto:20220924T170000
DTEND;TZID=America/Toronto:20220924T173000
DTSTAMP:20260420T072904
CREATED:20220921T140130Z
LAST-MODIFIED:20230715T150824Z
UID:5401-1664038800-1664040600@www.stmarytoronto.ca
SUMMARY:ԿԻՐԱԿՄՈՒՏՔ
DESCRIPTION:
URL:https://www.stmarytoronto.ca/event/%d5%af%d5%ab%d6%80%d5%a1%d5%af%d5%b4%d5%b8%d6%82%d5%bf%d6%84evening-service/
LOCATION:St. Mary Armenian Apostolic Church\, 45 Hallcrown Pl.\, Toronto\, Ontario\, M2J 4Y4\, Canada
ORGANIZER;CN="St. Mary Armenian Apostolic Church":MAILTO:office@stmarytoronto.ca
END:VEVENT
BEGIN:VEVENT
DTSTART;TZID=America/Toronto:20220925T083000
DTEND;TZID=America/Toronto:20220925T103000
DTSTAMP:20260420T072904
CREATED:20220921T140252Z
LAST-MODIFIED:20250117T225802Z
UID:5405-1664094600-1664101800@www.stmarytoronto.ca
SUMMARY:Գիշերային եւ առաւօտեան ժամերգութիւն
DESCRIPTION:Գիշերային եւ առաւօտեան ժամերգութիւն
URL:https://www.stmarytoronto.ca/event/%d5%a3%d5%ab%d5%b7%d5%a5%d6%80%d5%a1%d5%b5%d5%ab%d5%b6-%d5%a5%d6%82-%d5%a1%d5%bc%d5%a1%d6%82%d6%85%d5%bf%d5%a5%d5%a1%d5%b6-%d5%aa%d5%a1%d5%b4%d5%a5%d6%80%d5%a3%d5%b8%d6%82%d5%a9%d5%ab%d6%82%d5%b6night/
LOCATION:St. Mary Armenian Apostolic Church\, 45 Hallcrown Pl.\, Toronto\, Ontario\, M2J 4Y4\, Canada
ORGANIZER;CN="St. Mary Armenian Apostolic Church":MAILTO:office@stmarytoronto.ca
END:VEVENT
BEGIN:VEVENT
DTSTART;TZID=America/Toronto:20221002T103000
DTEND;TZID=America/Toronto:20221002T130000
DTSTAMP:20260420T072904
CREATED:20221004T021236Z
LAST-MODIFIED:20230512T144532Z
UID:5660-1664706600-1664715600@www.stmarytoronto.ca
SUMMARY:Ս. ՊԱՏԱՐԱԳ
DESCRIPTION:Ս. ՊԱՏԱՐԱԳ
URL:https://www.stmarytoronto.ca/event/%d5%bd-%d5%ba%d5%a1%d5%bf%d5%a1%d6%80%d5%a1%d5%a3divine-liturgy-2/
LOCATION:St. Mary Armenian Apostolic Church\, 45 Hallcrown Pl.\, Toronto\, Ontario\, M2J 4Y4\, Canada
ORGANIZER;CN="St. Mary Armenian Apostolic Church":MAILTO:office@stmarytoronto.ca
END:VEVENT
BEGIN:VEVENT
DTSTART;TZID=America/Toronto:20230213T190000
DTEND;TZID=America/Toronto:20230213T190000
DTSTAMP:20260420T072904
CREATED:20230212T152228Z
LAST-MODIFIED:20230212T152533Z
UID:6096-1676314800-1676314800@www.stmarytoronto.ca
SUMMARY:ՏԵԱՐՆԸՆԴԱՌԱՋ
DESCRIPTION:ՏՕՆ՝ ՔԱՌԱՍՆՕՐԵԱՅ ԳԱԼՍՏԵԱՆՆ ՔԻՍՏՈՍԻ ՓԻ ՏԱՃԱՐՆ
URL:https://www.stmarytoronto.ca/event/%d5%bf%d5%a5%d5%a1%d6%80%d5%b6%d5%a8%d5%b6%d5%a4%d5%a1%d5%bc%d5%a1%d5%bb/
LOCATION:St. Mary Armenian Apostolic Church\, 45 Hallcrown Pl.\, Toronto\, Ontario\, M2J 4Y4\, Canada
ATTACH;FMTTYPE=image/jpeg:https://www.stmarytoronto.ca/wp-content/uploads/2023/02/diarnuntarach-arm.jpg
ORGANIZER;CN="St. Mary Armenian Apostolic Church":MAILTO:office@stmarytoronto.ca
END:VEVENT
BEGIN:VEVENT
DTSTART;TZID=America/Toronto:20220924T170000
DTEND;TZID=America/Toronto:20220924T173000
DTSTAMP:20260420T072904
CREATED:20220921T140130Z
LAST-MODIFIED:20230715T150824Z
UID:5401-1664038800-1664040600@www.stmarytoronto.ca
SUMMARY:ԿԻՐԱԿՄՈՒՏՔ
DESCRIPTION:
URL:https://www.stmarytoronto.ca/event/%d5%af%d5%ab%d6%80%d5%a1%d5%af%d5%b4%d5%b8%d6%82%d5%bf%d6%84evening-service/
LOCATION:St. Mary Armenian Apostolic Church\, 45 Hallcrown Pl.\, Toronto\, Ontario\, M2J 4Y4\, Canada
ORGANIZER;CN="St. Mary Armenian Apostolic Church":MAILTO:office@stmarytoronto.ca
END:VEVENT
END:VCALENDAR