BEGIN:VCALENDAR
VERSION:2.0
PRODID:-//St. Mary Armenian Apostolic Church - ECPv6.15.17//NONSGML v1.0//EN
CALSCALE:GREGORIAN
METHOD:PUBLISH
X-ORIGINAL-URL:https://www.stmarytoronto.ca
X-WR-CALDESC:Events for St. Mary Armenian Apostolic Church
REFRESH-INTERVAL;VALUE=DURATION:PT1H
X-Robots-Tag:noindex
X-PUBLISHED-TTL:PT1H
BEGIN:VTIMEZONE
TZID:America/Toronto
BEGIN:DAYLIGHT
TZOFFSETFROM:-0500
TZOFFSETTO:-0400
TZNAME:EDT
DTSTART:20220313T070000
END:DAYLIGHT
BEGIN:STANDARD
TZOFFSETFROM:-0400
TZOFFSETTO:-0500
TZNAME:EST
DTSTART:20221106T060000
END:STANDARD
BEGIN:DAYLIGHT
TZOFFSETFROM:-0500
TZOFFSETTO:-0400
TZNAME:EDT
DTSTART:20230312T070000
END:DAYLIGHT
BEGIN:STANDARD
TZOFFSETFROM:-0400
TZOFFSETTO:-0500
TZNAME:EST
DTSTART:20231105T060000
END:STANDARD
BEGIN:DAYLIGHT
TZOFFSETFROM:-0500
TZOFFSETTO:-0400
TZNAME:EDT
DTSTART:20240310T070000
END:DAYLIGHT
BEGIN:STANDARD
TZOFFSETFROM:-0400
TZOFFSETTO:-0500
TZNAME:EST
DTSTART:20241103T060000
END:STANDARD
END:VTIMEZONE
BEGIN:VEVENT
DTSTART;TZID=America/Toronto:20230105T090000
DTEND;TZID=America/Toronto:20230105T093000
DTSTAMP:20260420T072248
CREATED:20221217T013850Z
LAST-MODIFIED:20221217T013850Z
UID:5949-1672909200-1672911000@www.stmarytoronto.ca
SUMMARY:Առաւօտեան ժամերգութիւն
DESCRIPTION:
URL:https://www.stmarytoronto.ca/event/%d5%a1%d5%bc%d5%a1%d6%82%d6%85%d5%bf%d5%a5%d5%a1%d5%b6-%d5%aa%d5%a1%d5%b4%d5%a5%d6%80%d5%a3%d5%b8%d6%82%d5%a9%d5%ab%d6%82%d5%b6/
LOCATION:St. Mary Armenian Apostolic Church\, 45 Hallcrown Pl.\, Toronto\, Ontario\, M2J 4Y4\, Canada
ATTACH;FMTTYPE=image/jpeg:https://www.stmarytoronto.ca/wp-content/uploads/2022/12/WhatsApp-Image-2022-12-13-at-11.26.13-PM-1.jpeg
ORGANIZER;CN="St. Mary Armenian Apostolic Church":MAILTO:office@stmarytoronto.ca
END:VEVENT
BEGIN:VEVENT
DTSTART;TZID=America/Toronto:20230105T163000
DTEND;TZID=America/Toronto:20230105T170000
DTSTAMP:20260420T072248
CREATED:20221217T013949Z
LAST-MODIFIED:20221217T013949Z
UID:5951-1672936200-1672938000@www.stmarytoronto.ca
SUMMARY:Ս. Գիրքերու Ընթերցուածներ
DESCRIPTION:
URL:https://www.stmarytoronto.ca/event/%d5%bd-%d5%a3%d5%ab%d6%80%d6%84%d5%a5%d6%80%d5%b8%d6%82-%d5%a8%d5%b6%d5%a9%d5%a5%d6%80%d6%81%d5%b8%d6%82%d5%a1%d5%ae%d5%b6%d5%a5%d6%80/
LOCATION:St. Mary Armenian Apostolic Church\, 45 Hallcrown Pl.\, Toronto\, Ontario\, M2J 4Y4\, Canada
ATTACH;FMTTYPE=image/jpeg:https://www.stmarytoronto.ca/wp-content/uploads/2022/12/WhatsApp-Image-2022-12-13-at-11.26.13-PM-1.jpeg
ORGANIZER;CN="St. Mary Armenian Apostolic Church":MAILTO:office@stmarytoronto.ca
END:VEVENT
BEGIN:VEVENT
DTSTART;TZID=America/Toronto:20230105T173000
DTEND;TZID=America/Toronto:20230105T193000
DTSTAMP:20260420T072248
CREATED:20221217T014032Z
LAST-MODIFIED:20221217T014032Z
UID:5953-1672939800-1672947000@www.stmarytoronto.ca
SUMMARY:Ս. եւ Անմահ Պատարագ
DESCRIPTION:
URL:https://www.stmarytoronto.ca/event/%d5%bd-%d5%a5%d6%82-%d5%a1%d5%b6%d5%b4%d5%a1%d5%b0-%d5%ba%d5%a1%d5%bf%d5%a1%d6%80%d5%a1%d5%a3-2/
LOCATION:St. Mary Armenian Apostolic Church\, 45 Hallcrown Pl.\, Toronto\, Ontario\, M2J 4Y4\, Canada
ATTACH;FMTTYPE=image/jpeg:https://www.stmarytoronto.ca/wp-content/uploads/2022/12/WhatsApp-Image-2022-12-13-at-11.26.13-PM-1.jpeg
ORGANIZER;CN="St. Mary Armenian Apostolic Church":MAILTO:office@stmarytoronto.ca
END:VEVENT
END:VCALENDAR