BEGIN:VCALENDAR
VERSION:2.0
PRODID:-//St. Mary Armenian Apostolic Church - ECPv6.15.17//NONSGML v1.0//EN
CALSCALE:GREGORIAN
METHOD:PUBLISH
X-ORIGINAL-URL:https://www.stmarytoronto.ca
X-WR-CALDESC:Events for St. Mary Armenian Apostolic Church
REFRESH-INTERVAL;VALUE=DURATION:PT1H
X-Robots-Tag:noindex
X-PUBLISHED-TTL:PT1H
BEGIN:VTIMEZONE
TZID:America/Toronto
BEGIN:DAYLIGHT
TZOFFSETFROM:-0500
TZOFFSETTO:-0400
TZNAME:EDT
DTSTART:20210314T070000
END:DAYLIGHT
BEGIN:STANDARD
TZOFFSETFROM:-0400
TZOFFSETTO:-0500
TZNAME:EST
DTSTART:20211107T060000
END:STANDARD
BEGIN:DAYLIGHT
TZOFFSETFROM:-0500
TZOFFSETTO:-0400
TZNAME:EDT
DTSTART:20220313T070000
END:DAYLIGHT
BEGIN:STANDARD
TZOFFSETFROM:-0400
TZOFFSETTO:-0500
TZNAME:EST
DTSTART:20221106T060000
END:STANDARD
BEGIN:DAYLIGHT
TZOFFSETFROM:-0500
TZOFFSETTO:-0400
TZNAME:EDT
DTSTART:20230312T070000
END:DAYLIGHT
BEGIN:STANDARD
TZOFFSETFROM:-0400
TZOFFSETTO:-0500
TZNAME:EST
DTSTART:20231105T060000
END:STANDARD
END:VTIMEZONE
BEGIN:VEVENT
DTSTART;TZID=America/Toronto:20221226T193000
DTEND;TZID=America/Toronto:20221226T203000
DTSTAMP:20260420T060322
CREATED:20221217T012432Z
LAST-MODIFIED:20221217T013110Z
UID:5933-1672083000-1672086600@www.stmarytoronto.ca
SUMMARY:Ս. եւ Անմահ Պատարագ
DESCRIPTION:
URL:https://www.stmarytoronto.ca/event/%d5%bd-%d5%a5%d6%82-%d5%a1%d5%b6%d5%b4%d5%a1%d5%b0-%d5%ba%d5%a1%d5%bf%d5%a1%d6%80%d5%a1%d5%a3/
LOCATION:St. Mary Armenian Apostolic Church\, 45 Hallcrown Pl.\, Toronto\, Ontario\, M2J 4Y4\, Canada
ATTACH;FMTTYPE=image/jpeg:https://www.stmarytoronto.ca/wp-content/uploads/2022/12/dec-26.jpg
ORGANIZER;CN="St. Mary Armenian Apostolic Church":MAILTO:office@stmarytoronto.ca
END:VEVENT
BEGIN:VEVENT
DTSTART;TZID=America/Toronto:20221226T204500
DTEND;TZID=America/Toronto:20221226T204500
DTSTAMP:20260420T060322
CREATED:20221217T012354Z
LAST-MODIFIED:20221217T012354Z
UID:5931-1672087500-1672087500@www.stmarytoronto.ca
SUMMARY:Սարկաւագներու Օրհնութիւն
DESCRIPTION:
URL:https://www.stmarytoronto.ca/event/%d5%bd%d5%a1%d6%80%d5%af%d5%a1%d6%82%d5%a1%d5%a3%d5%b6%d5%a5%d6%80%d5%b8%d6%82-%d6%85%d6%80%d5%b0%d5%b6%d5%b8%d6%82%d5%a9%d5%ab%d6%82%d5%b6/
LOCATION:St. Mary Armenian Apostolic Church\, 45 Hallcrown Pl.\, Toronto\, Ontario\, M2J 4Y4\, Canada
ATTACH;FMTTYPE=image/jpeg:https://www.stmarytoronto.ca/wp-content/uploads/2022/12/dec-26.jpg
ORGANIZER;CN="St. Mary Armenian Apostolic Church":MAILTO:office@stmarytoronto.ca
END:VEVENT
END:VCALENDAR